BEGIN:VCALENDAR
VERSION:2.0
PRODID:-//ChamberMaster//Event Calendar 2.0//EN
METHOD:PUBLISH
X-PUBLISHED-TTL:P3D
REFRESH-INTERVAL:P3D
CALSCALE:GREGORIAN
BEGIN:VEVENT
DTSTART:20141018T013000Z
DTEND:20141018T043000Z
X-MICROSOFT-CDO-ALLDAYEVENT:FALSE
SUMMARY:Vic Duncan Band at TAVERNA ROSSA
DESCRIPTION:The Vic Duncan Band is a Dallas - Ft. Worth based band specializing in memorable classics from the past 5 decades\, as well as original songs that will entertain every generation. You're in for a top notch entertaining experience tonight. This will be something you don't want to miss.\n\nJoin us as we welcome Vic Duncan to Taverna Rossa for their debut. We'll be serving up the hot pizzas and cold beers all night long!
X-ALT-DESC;FMTTYPE=text/html:<p style="margin: 0px 0px 25px\; padding: 0px\; text-align: justify\; color: rgb(68\, 68\, 68)\; line-height: 1.6em\; font-family: &quot\;Droid Sans&quot\;\, Arial\, sans-serif\; font-size: 16px\;"><span data-mce-style="font-family: verdana\,geneva\,sans-serif\;" style="margin: 0px\; padding: 0px\; font-family: verdana\, geneva\, sans-serif\;"><span data-mce-style="font-family: Verdana\,Arial\,Helvetica\,sans-serif\;" style="margin: 0px\; padding: 0px\; font-family: Verdana\, Arial\, Helvetica\, sans-serif\;">The&nbsp\;<a data-mce-="" href="https://www.youtube.com/watch?v=oUCYn2-lhRM" style="margin: 0px\; padding: 0px\;" target="_blank" title="Vic Duncan Band at Deep Ellum Brewing Company ">Vic Duncan Band</a>&nbsp\;is a Dallas - Ft. Worth based band specializing in memorable classics from the past 5 decades\, as well as original songs that will entertain every generation. You&#39\;re in for a top notch entertaining experience tonight. This will be something you don&#39\;t want to miss.</span></span></p>\n\n<p style="margin: 0px 0px 25px\; padding: 0px\; text-align: justify\; color: rgb(68\, 68\, 68)\; line-height: 1.6em\; font-family: &quot\;Droid Sans&quot\;\, Arial\, sans-serif\; font-size: 16px\;">Join us as we welcome Vic Duncan to&nbsp\;<a data-mce-="" href="http://www.tavernarossa.com/" style="margin: 0px\; padding: 0px\;" target="_blank" title="Taverna Rossa Homepage">Taverna Rossa</a>&nbsp\;for their debut. We&#39\;ll be serving up the hot pizzas and cold beers all night long!</p>\n
LOCATION:Located on the North-West corner of Preston Road and Lorimar in Plano at the Lakeside Market next to Mi Cocina. 4005 Preston Road\, Ste 512 Plano\, TX 75093
UID:e.854.5287
SEQUENCE:3
DTSTAMP:20260420T104534Z
URL:https://members.planochamber.org/events/details/vic-duncan-band-at-taverna-rossa-10-17-2014-5287
END:VEVENT

END:VCALENDAR
