BEGIN:VCALENDAR
VERSION:2.0
PRODID:-//ChamberMaster//Event Calendar 2.0//EN
METHOD:PUBLISH
X-PUBLISHED-TTL:P3D
REFRESH-INTERVAL:P3D
CALSCALE:GREGORIAN
BEGIN:VEVENT
DTSTART:20141018T150000Z
DTEND:20141018T200000Z
X-MICROSOFT-CDO-ALLDAYEVENT:FALSE
SUMMARY:US Memory Care Fun Fall Festival
DESCRIPTION:Join us for the U.S. Memory Care Fun Fall Festival to celebrate the opening of our new community!\n\nThere will be fun for the whole family! We'll have a pumpkin patch\, petting zoo\, bounce house\,\n\nface painting\, jack-o-lantern carving\, games\, food and a scarecrow auction. \n\nSATURDAY\, October 18th from 10 a.m. to 3 p.m.\n\n3690 Mapleshade Lane\, Plano\n\n(Corner of Mapleshade Lane and Silverglen Drive\, behind Central Market)\n\nAll proceeds benefit the Alzheimer's Association!\n\nFor more information call 972-479-5200 or download the PDF flyer by clicking the link below.\n\n\n\nhttp://www.usmemorycare.com/PDF/FunFallFest_Flyer.pdf
X-ALT-DESC;FMTTYPE=text/html:<p class="p1" style="text-align: center\;"><span style="color: rgb(0\, 0\, 128)\;"><span style="font-size: 14px\;"><span class="s1">Join us for the U.S. Memory Care Fun Fall Festival to celebrate the opening of our new community!</span></span></span></p>\n\n<p class="p1" style="text-align: center\;"><span style="color: rgb(0\, 0\, 128)\;"><span style="font-size: 14px\;"><span class="s1">There will be fun for the whole family! We&rsquo\;ll have a pumpkin patch\, petting zoo\, bounce house\,<br />\nface painting\, jack-o-lantern carving\, games\, food and a scarecrow auction.&nbsp\;</span></span></span></p>\n\n<p class="p2" style="text-align: center\;"><span style="color: rgb(255\, 140\, 0)\;"><span style="font-size: 16px\;"><span class="s2"><b>SATURDAY\, October 18<sup>th</sup> from </b></span><span class="s1"><b>10 a.m. to 3 p.m.</b></span></span></span></p>\n\n<p class="p3" style="text-align: center\;"><span style="color: rgb(0\, 0\, 128)\;"><span style="font-size: 14px\;"><span class="s3">3690 Mapleshade Lane\, Plano</span><br />\n<span class="s4">(Corner of Mapleshade Lane and Silverglen Drive\, behind Central Market)</span></span></span></p>\n\n<p class="p4" style="text-align: center\;"><span style="font-size: 16px\;"><span style="color: rgb(0\, 0\, 128)\;"><span class="s1"><b>All proceeds benefit the Alzheimer&rsquo\;s Association!</b></span></span></span></p>\n\n<p class="p5" style="text-align: center\;"><span style="color: rgb(0\, 0\, 128)\;"><span style="font-size: 14px\;"><span class="s1"><b>For more information call&nbsp\;</b></span><span class="s5"><b>972-479-5200 or download the PDF flyer by clicking the link below.</b></span></span></span></p>\n\n<div style="text-align: center\;"><br />\n<a href="http://www.usmemorycare.com/PDF/FunFallFest_Flyer.pdf"><span style="font-size: 14px\;">http://www.usmemorycare.com/PDF/FunFallFest_Flyer.pdf</span></a></div>\n
LOCATION:3690 Mapleshade Lane\, Plano (Corner of Mapleshade Lane and Silverglen Drive\, behind Central Market)
UID:e.854.5272
SEQUENCE:3
DTSTAMP:20260420T103527Z
URL:https://members.planochamber.org/events/details/us-memory-care-fun-fall-festival-10-18-2014-5272
END:VEVENT

END:VCALENDAR
