BEGIN:VCALENDAR
VERSION:2.0
PRODID:-//ChamberMaster//Event Calendar 2.0//EN
METHOD:PUBLISH
X-PUBLISHED-TTL:P3D
REFRESH-INTERVAL:P3D
CALSCALE:GREGORIAN
BEGIN:VEVENT
DTSTART:20141011T013000Z
DTEND:20141011T043000Z
X-MICROSOFT-CDO-ALLDAYEVENT:FALSE
SUMMARY:Sylvanshine at TAVERNA ROSSA
DESCRIPTION:Sylvanshine is a group of seasoned musicians playing an eclectic mix of your favorite tunes including classics from the 70's\, 80's and 90's as well classic and current hits. Tonight they will be featured as an acoustic show!\n\nCome for Joey Love\, and stay for our Late Night Hoppy Hour\, including music\, munchies\, and Happy Hour pricing. We'll be featuring $5 Ma's Homemade Meatballs and Killer TX Sausage Queso along with $2 off all drafts\, $3 wells\, $5 house wine\, and $8 Spicy Bloody Rossas\, RossaRitas\, and Rossa Mules.
X-ALT-DESC;FMTTYPE=text/html:<p style="margin: 0px 0px 25px\; padding: 0px\; text-align: justify\; color: rgb(68\, 68\, 68)\; line-height: 1.6em\; font-family: &quot\;Droid Sans&quot\;\, Arial\, sans-serif\; font-size: 16px\;"><a data-mce-="" href="http://www.sylvanshine.net/" style="margin: 0px\; padding: 0px\;" target="_blank" title="Official Sylvanshine Website">Sylvanshine</a>&nbsp\;is a group of seasoned musicians playing an eclectic mix of your favorite tunes including classics from the 70&#39\;s\, 80&#39\;s and 90&#39\;s as well classic and current hits. Tonight they will be featured as an acoustic show!</p>\n\n<p style="margin: 0px 0px 25px\; padding: 0px\; text-align: justify\; color: rgb(68\, 68\, 68)\; line-height: 1.6em\; font-family: &quot\;Droid Sans&quot\;\, Arial\, sans-serif\; font-size: 16px\;">Come for Joey Love\, and stay for our&nbsp\;<a data-mce-="" href="http://tavernarossa.com/beverage/" style="margin: 0px\; padding: 0px\;" target="_blank" title="Happy Hour Beverages">Late Night Hoppy Hour</a>\, including music\, munchies\, and Happy Hour pricing. We&#39\;ll be featuring $5 Ma&#39\;s Homemade Meatballs and Killer TX Sausage Queso along with $2 off all drafts\, $3 wells\, $5 house wine\, and $8 Spicy Bloody Rossas\, RossaRitas\, and Rossa Mules.</p>\n
LOCATION:Located on the North-West corner of Preston Road and Lorimar in Plano at the Lakeside Market next to Mi Cocina. 4005 Preston Road\, Ste 512 Plano\, TX 75093
UID:e.854.5285
SEQUENCE:3
DTSTAMP:20260420T100545Z
URL:https://members.planochamber.org/events/details/sylvanshine-at-taverna-rossa-10-10-2014-5285
END:VEVENT

END:VCALENDAR
