BEGIN:VCALENDAR
VERSION:2.0
PRODID:-//ChamberMaster//Event Calendar 2.0//EN
METHOD:PUBLISH
X-PUBLISHED-TTL:P3D
REFRESH-INTERVAL:P3D
CALSCALE:GREGORIAN
BEGIN:VEVENT
DTSTART:20141024T140000Z
DTEND:20141024T143000Z
X-MICROSOFT-CDO-ALLDAYEVENT:FALSE
SUMMARY:Ribbon Cutting - North Dallas Moving and Storage
DESCRIPTION:Join us as we celebrate North Dallas Moving and Storage with a ribbon cutting!\n\n\n\nEnjoy light refreshments!  This is a great way to support chamber members and to network with other businesses in the community.
X-ALT-DESC;FMTTYPE=text/html:<div style="text-align: center\;"><br />\n<span style="font-family: verdana\;"><span style="font-size: 16px\;"><strong>Join us as we celebrate North Dallas Moving and Storage with a ribbon cutting!</strong><br />\n<br />\nEnjoy light refreshments!&nbsp\; This is a great way to support chamber members and to network with other businesses in the community. </span></span></div>\n<br />\n<br />\n&nbsp\;
LOCATION:The ribbon cutting will be held at the Plano Chamber of Commerce 1200 East 15th Street - Plano\, TX 75074
UID:e.854.4228
SEQUENCE:3
DTSTAMP:20260420T104732Z
URL:https://members.planochamber.org/events/details/ribbon-cutting-north-dallas-moving-and-storage-10-24-2014-4228
END:VEVENT

END:VCALENDAR
