BEGIN:VCALENDAR
VERSION:2.0
PRODID:-//ChamberMaster//Event Calendar 2.0//EN
METHOD:PUBLISH
X-PUBLISHED-TTL:P3D
REFRESH-INTERVAL:P3D
CALSCALE:GREGORIAN
BEGIN:VEVENT
DTSTART:20141007T150000Z
DTEND:20141007T153000Z
X-MICROSOFT-CDO-ALLDAYEVENT:FALSE
SUMMARY:Ribbon Cutting - Jet's Pizza
DESCRIPTION:Please join us to celebrate Jet's Pizza with a ribbon cutting!  Plano Chamber members and guests are welcome.  Enjoy pizza\, soda and water.
X-ALT-DESC;FMTTYPE=text/html:<div style="text-align: center\;"><br />\n<span style="font-family: verdana\;"><span style="font-size: 16px\;"><span style="font-size: 14px\;"><strong>Please join us to celebrate Jet&#39\;s Pizza with a ribbon cutting!&nbsp\; Plano Chamber members and guests are welcome.&nbsp\; Enjoy pizza\, soda and water. </strong></span></span></span><br />\n&nbsp\;</div>\n
LOCATION:Jet's Pizza 3916 McDermott Plano\, TX 75024 (Located on the SE corner of Coit & McDermott across from the Racetrac Gas Station.)
UID:e.854.5264
SEQUENCE:3
DTSTAMP:20260420T104311Z
URL:https://members.planochamber.org/events/details/ribbon-cutting-jet-s-pizza-10-07-2014-5264
END:VEVENT

END:VCALENDAR
