BEGIN:VCALENDAR
VERSION:2.0
PRODID:-//ChamberMaster//Event Calendar 2.0//EN
METHOD:PUBLISH
X-PUBLISHED-TTL:P3D
REFRESH-INTERVAL:P3D
CALSCALE:GREGORIAN
BEGIN:VEVENT
DTSTART:20141218T160000Z
DTEND:20141218T163000Z
X-MICROSOFT-CDO-ALLDAYEVENT:FALSE
SUMMARY:Ribbon Cutting & Grand Opening - Plano Urgent Care
DESCRIPTION:Please join us to celebrate Plano Urgent Care with a ribbon cutting! Enjoy light refreshments and beverages.  Be sure to take a tour of their new facility and learn about their emphasis on family and health.\n\n\n\nPlano Chamber Members\, Ambassadors and Guests are Welcome.
X-ALT-DESC;FMTTYPE=text/html:<div style="text-align: center\;"><br />\n<strong><span style="font-size: 14px\;"><span style="font-family: verdana\;">Please join us to celebrate Plano Urgent Care with a ribbon cutting! Enjoy light refreshments and beverages.&nbsp\; Be sure to take a tour of their new facility and learn about their emphasis on family and health.<br />\n<br />\nPlano Chamber Members\, Ambassadors and Guests are Welcome. </span></span></strong><br />\n&nbsp\;</div>\n
LOCATION:Plano Urgent Care 901 W 15th Street Plano\, TX 75075 (Located on the NE corner of Alma and 15th Street.)
UID:e.854.5355
SEQUENCE:3
DTSTAMP:20260420T085817Z
URL:https://members.planochamber.org/events/details/ribbon-cutting-grand-opening-plano-urgent-care-12-18-2014-5355
END:VEVENT

END:VCALENDAR
