BEGIN:VCALENDAR
VERSION:2.0
PRODID:-//ChamberMaster//Event Calendar 2.0//EN
METHOD:PUBLISH
X-PUBLISHED-TTL:P3D
REFRESH-INTERVAL:P3D
CALSCALE:GREGORIAN
BEGIN:VEVENT
DTSTART:20141113T223000Z
DTEND:20141113T230000Z
X-MICROSOFT-CDO-ALLDAYEVENT:FALSE
SUMMARY:Ribbon Cutting & Grand Opening - Explore Horizons
DESCRIPTION:Please join us to celebrate Explore Horizons' newest tutoring location in DFW!  Enjoy soft drinks\, snack ships and cupcakes.\n\n\n\nSpecial Offer! Explore Horizons will waive their $75 registration fee for all new members who join Oct 2014 - January 2015.
X-ALT-DESC;FMTTYPE=text/html:<div style="text-align: center\;"><br />\n<span style="font-size: 14px\;"><span style="font-family: verdana\;">Please join us to celebrate Explore Horizons&#39\; newest tutoring location in DFW!&nbsp\; Enjoy soft drinks\, snack ships and cupcakes.<br />\n<br />\nSpecial Offer! Explore Horizons will waive their $75 registration fee for all new members who join Oct 2014 - January 2015. </span></span><br />\n&nbsp\;</div>\n
LOCATION:Explore Horizons 6921 Independence Parkway\, Ste 100 Plano\, TX 75023 (Located near Independence Parkway and Legacy Drive and also near TAJ Grocery)
UID:e.854.5337
SEQUENCE:3
DTSTAMP:20260420T085308Z
URL:https://members.planochamber.org/events/details/ribbon-cutting-grand-opening-explore-horizons-11-13-2014-5337
END:VEVENT

END:VCALENDAR
