BEGIN:VCALENDAR
VERSION:2.0
PRODID:-//ChamberMaster//Event Calendar 2.0//EN
METHOD:PUBLISH
X-PUBLISHED-TTL:P3D
REFRESH-INTERVAL:P3D
CALSCALE:GREGORIAN
BEGIN:VEVENT
DTSTART:20141111T223000Z
DTEND:20141111T230000Z
X-MICROSOFT-CDO-ALLDAYEVENT:FALSE
SUMMARY:Ribbon Cutting - Fence Makeovers (NOTE NEW DATE)
DESCRIPTION:Join us as we celebrate the Grand Opening of Fence Makeovers' new office! Enjoy Spring Creek BBQ\, soda and cupcakes.\n\n\n\nAmbassador Club Members as well as Plano Chamber Members and Guests are welcome.
X-ALT-DESC;FMTTYPE=text/html:<p style="text-align: center\;"><br />\n<span style="font-family: verdana\;"><span style="font-size: 16px\;"><strong>Join us as we celebrate the Grand Opening of Fence Makeovers&#39\; new office! Enjoy Spring Creek BBQ\, soda and cupcakes.</strong></span></span><br />\n<br />\n<span style="font-family: verdana\;"><span style="font-size: 16px\;">Ambassador Club Members as well as Plano Chamber Members and Guests are welcome.&nbsp\; </span></span><br />\n&nbsp\;</p>\n
LOCATION:Fence Makeovers 600 Ohio Drive Plano TX 75093 (Located on the SE corner of Mapleshade and Ohio)
UID:e.854.5265
SEQUENCE:3
DTSTAMP:20260420T085228Z
URL:https://members.planochamber.org/events/details/ribbon-cutting-fence-makeovers-note-new-date-11-11-2014-5265
END:VEVENT

END:VCALENDAR
