BEGIN:VCALENDAR
VERSION:2.0
PRODID:-//ChamberMaster//Event Calendar 2.0//EN
METHOD:PUBLISH
X-PUBLISHED-TTL:P3D
REFRESH-INTERVAL:P3D
CALSCALE:GREGORIAN
BEGIN:VEVENT
DTSTART:20141021T213000Z
DTEND:20141021T220000Z
X-MICROSOFT-CDO-ALLDAYEVENT:FALSE
SUMMARY:Ribbon Cutting - Drive Auto Appearance
DESCRIPTION:Please join us for a ribbon cutting to celebrate the grand opening of Drive Auto Appearance! \n\nRefreshments will be provided. \n\n\n\nBe sure to take advantage of their 10% discount for service\, products or membership for Plano chamber members!\n\n\n\nAmbassador Club members as well as Plano chamber members and guests are welcome.
X-ALT-DESC;FMTTYPE=text/html:<p style="text-align: center\;"><strong><span style="font-size: 16px\;">Please join us for a ribbon cutting to celebrate the grand opening of Drive Auto Appearance!&nbsp\;<br />\nRefreshments will be provided.&nbsp\;<br />\n<br />\nBe sure to take advantage of their 10% discount for service\, products or membership for Plano chamber members!<br />\n<br />\nAmbassador Club members as well as Plano chamber members and guests are welcome.</span></strong><br />\n&nbsp\;</p>\n
LOCATION:Drive Auto Appearance 1101 Ohio Drive\, Suite 107 Plano\, TX 75093 (Located at Ohio & Plano Parkway on the NW corner near Baylor Hospital and Signs by Tomorrow)
UID:e.854.5277
SEQUENCE:3
DTSTAMP:20260420T103343Z
URL:https://members.planochamber.org/events/details/ribbon-cutting-drive-auto-appearance-10-21-2014-5277
END:VEVENT

END:VCALENDAR
