BEGIN:VCALENDAR
VERSION:2.0
PRODID:-//ChamberMaster//Event Calendar 2.0//EN
METHOD:PUBLISH
X-PUBLISHED-TTL:P3D
REFRESH-INTERVAL:P3D
CALSCALE:GREGORIAN
BEGIN:VEVENT
DTSTART:20141023T150000Z
DTEND:20141023T153000Z
X-MICROSOFT-CDO-ALLDAYEVENT:FALSE
SUMMARY:Ribbon Cutting - Dee Lincoln
DESCRIPTION:Please join us as we celebrate\n\nDee Lincoln Steak Bar \n\nwith a ribbon cutting!
X-ALT-DESC;FMTTYPE=text/html:<div style="text-align: center\;"><br />\n<span style="font-family: verdana\;"><span style="font-size: 10pt\;"><span style="font-size: 14px\;"><strong>Please join us as we celebrate<br />\nDee Lincoln Steak Bar&nbsp\;<br />\nwith a ribbon cutting!</strong></span></span></span><br />\n<br />\n<br />\n<br />\n<br />\n&nbsp\;</div>\n
LOCATION:Dee Lincoln Steak Bar 4701 W Park Blvd\, # 101 Plano\, Texas 75093 (Located off Park Blvd between Preston and Ohio near the Studio Movie Grill)
UID:e.854.5316
SEQUENCE:3
DTSTAMP:20260420T103300Z
URL:https://members.planochamber.org/events/details/ribbon-cutting-dee-lincoln-10-23-2014-5316
END:VEVENT

END:VCALENDAR
