BEGIN:VCALENDAR
VERSION:2.0
PRODID:-//ChamberMaster//Event Calendar 2.0//EN
METHOD:PUBLISH
X-PUBLISHED-TTL:P3D
REFRESH-INTERVAL:P3D
CALSCALE:GREGORIAN
BEGIN:VEVENT
DTSTART:20141014T150000Z
DTEND:20141014T153000Z
X-MICROSOFT-CDO-ALLDAYEVENT:FALSE
SUMMARY:Ribbon Cutting - Brookdale Spring Creek Gardens
DESCRIPTION:Please join us for a ribbon cutting for Brookdale Spring Creek Gardens (Formerly Emeritus Spring Creek Gardens) to celebrate their new name and new ownership. \n\n\n\nEnjoy light refreshments.  Ambassador Club Members as well as Plano Chamber Members and Guests are welcome!
X-ALT-DESC;FMTTYPE=text/html:<p style="text-align: center\;"><span style="font-family: verdana\;"><span style="font-size: 16px\;">Please join us for a ribbon cutting for Brookdale Spring Creek Gardens (Formerly Emeritus Spring Creek Gardens) to celebrate their new name and new ownership.&nbsp\;<br />\n<br />\nEnjoy light refreshments.&nbsp\; Ambassador Club Members as well as Plano Chamber Members and Guests are welcome!&nbsp\; </span></span><br />\n&nbsp\;</p>\n
LOCATION:Brookdale Spring Creek Gardens 6410 Old Orchard Drive Plano\, TX 75023 (Located at North West corner of Spring Creek Parkway and Custer)
UID:e.854.5258
SEQUENCE:3
DTSTAMP:20260420T104656Z
URL:https://members.planochamber.org/events/details/ribbon-cutting-brookdale-spring-creek-gardens-10-14-2014-5258
END:VEVENT

END:VCALENDAR
