BEGIN:VCALENDAR
VERSION:2.0
PRODID:-//ChamberMaster//Event Calendar 2.0//EN
METHOD:PUBLISH
X-PUBLISHED-TTL:P3D
REFRESH-INTERVAL:P3D
CALSCALE:GREGORIAN
BEGIN:VEVENT
DTSTART:20141014T153000Z
DTEND:20141014T160000Z
X-MICROSOFT-CDO-ALLDAYEVENT:FALSE
SUMMARY:Ribbon Cutting - Brookdale Creekside
DESCRIPTION:Please join us for a ribbon cutting for Brookdale Creekside (Formerly Emeritus at Creekside) to celebrate their new name and new ownership.\n\n\n\nEnjoy light refreshments.  Ambassador Club Members as well as Plano Chamber Members and Guests are welcome!
X-ALT-DESC;FMTTYPE=text/html:<p style="text-align: center\;"><span style="font-family: verdana\;"><span style="font-size: 16px\;">Please join us for a ribbon cutting for Brookdale Creekside (Formerly Emeritus at Creekside) to celebrate their new name and new ownership.<br />\n<br />\nEnjoy light refreshments.&nbsp\; Ambassador Club Members as well as Plano Chamber Members and Guests are welcome!&nbsp\; </span></span><br />\n&nbsp\;</p>\n
LOCATION:Brookdale Creekside 2000 W. Spring Creek Parkway Plano\, TX 75023 (Located at South East corner of Spring Creek Parkway and Custer)
UID:e.854.5260
SEQUENCE:3
DTSTAMP:20260420T104349Z
URL:https://members.planochamber.org/events/details/ribbon-cutting-brookdale-creekside-10-14-2014-5260
END:VEVENT

END:VCALENDAR
