BEGIN:VCALENDAR
VERSION:2.0
PRODID:-//ChamberMaster//Event Calendar 2.0//EN
METHOD:PUBLISH
X-PUBLISHED-TTL:P3D
REFRESH-INTERVAL:P3D
CALSCALE:GREGORIAN
BEGIN:VEVENT
DTSTART:20141021T150000Z
DTEND:20141021T153000Z
X-MICROSOFT-CDO-ALLDAYEVENT:FALSE
SUMMARY:Ribbon Cutting - Brookdale Collin Oaks
DESCRIPTION:Please join us for a ribbon cutting for Brookdale Collin Oaks (Formerly Emeritus at Collin Oaks) to celebrate their new name and new ownership.\n\n\n\nEnjoy light refreshments.  Ambassador Club Members as well as Plano Chamber Members and Guests are welcome!
X-ALT-DESC;FMTTYPE=text/html:<p style="text-align: center\;"><span style="font-family: verdana\;"><span style="font-size: 16px\;">Please join us for a ribbon cutting for Brookdale Collin Oaks (Formerly Emeritus at Collin Oaks) to celebrate their new name and new ownership.<br />\n<br />\nEnjoy light refreshments.&nbsp\; Ambassador Club Members as well as Plano Chamber Members and Guests are welcome!&nbsp\; </span></span><br />\n&nbsp\;</p>\n
LOCATION:Brookdale Collin Oaks 4045 W. 15th Street Plano\, TX 75093 (Located on the NW corner of Coit and 15th Street near Medical Center of Plano. Note: there will be limited parking at this event.)
UID:e.854.5261
SEQUENCE:3
DTSTAMP:20260420T104546Z
URL:https://members.planochamber.org/events/details/ribbon-cutting-brookdale-collin-oaks-10-21-2014-5261
END:VEVENT

END:VCALENDAR
