BEGIN:VCALENDAR
VERSION:2.0
PRODID:-//ChamberMaster//Event Calendar 2.0//EN
METHOD:PUBLISH
X-PUBLISHED-TTL:P3D
REFRESH-INTERVAL:P3D
CALSCALE:GREGORIAN
BEGIN:VEVENT
DTSTART:20141118T223000Z
DTEND:20141118T230000Z
X-MICROSOFT-CDO-ALLDAYEVENT:FALSE
SUMMARY:Ribbon Cutting - Auto Fix It Plano
DESCRIPTION:Please join us as we celebrate Auto Fix it Plano with a ribbon cutting!  They will be celebrating a new ownership as well as their membership with the Plano Chamber of Commerce.  Enjoy assorted beverages including beer and wine as well as light hors d'oeuvres.  They will be giving away 50% off oil change coupons. \n\n\n\nAmbassador Club Members as well as Plano Chamber Members and Guests are welcome.
X-ALT-DESC;FMTTYPE=text/html:<p style="text-align: center\;"><br />\n<span style="font-family: verdana\;"><span style="font-size: 16px\;">Please join us as we celebrate Auto Fix it Plano with a ribbon cutting!&nbsp\; They will be celebrating a new ownership as well as their membership with the Plano Chamber of Commerce.&nbsp\; Enjoy assorted beverages including beer and wine as well as light hors d&#39\;oeuvres.&nbsp\; They will be giving away 50% off oil change coupons.&nbsp\;<br />\n<br />\nAmbassador Club Members as well as Plano Chamber Members and Guests are welcome.&nbsp\; </span></span><br />\n&nbsp\;</p>\n
LOCATION:Auto Fix It Plano 1421 I Ave Plano\, TX 75074 (Located on the SW corner of 15th and I Avenue. Take 15th and turn into Georgia's Market and drive straight back)
UID:e.854.5348
SEQUENCE:3
DTSTAMP:20260420T083115Z
URL:https://members.planochamber.org/events/details/ribbon-cutting-auto-fix-it-plano-11-18-2014-5348
END:VEVENT

END:VCALENDAR
