BEGIN:VCALENDAR
VERSION:2.0
PRODID:-//ChamberMaster//Event Calendar 2.0//EN
METHOD:PUBLISH
X-PUBLISHED-TTL:P3D
REFRESH-INTERVAL:P3D
CALSCALE:GREGORIAN
BEGIN:VEVENT
DTSTART:20141023T213000Z
DTEND:20141023T220000Z
X-MICROSOFT-CDO-ALLDAYEVENT:FALSE
SUMMARY:Ribbon Cutting - AlleeOops Photography
DESCRIPTION:Please join us as we celebrate AlleeOops Photography's global expansion!  Enjoy light snacks and tour a gallery showing of photos from Janelle's recent trip to Zimbabwe\, Africa.  If you make a donation to This Side Up during the event you will receive a free print of the African sunset!\n\n\n\nThis is a great way to show support for your fellow Plano Chamber members and also serves as an opportunity to get connected to the business community.
X-ALT-DESC;FMTTYPE=text/html:<p><br />\n<span style="font-family: verdana\;"><span style="font-size: 14px\;"><span style="color: black\;">Please join us as&nbsp\;we celebrate AlleeOops Photography&#39\;s global expansion!&nbsp\; Enjoy light snacks and tour a gallery showing of photos from Janelle&#39\;s </span></span></span><span style="font-family: verdana\;"><span style="font-size: 14px\;"><span style="color: black\;">recent trip to Zimbabwe\, Africa.&nbsp\; If you make a donation to This Side Up during the event you will receive a free print of the African sunset!<br />\n<br />\nThis is a great way to show support for your&nbsp\;fellow Plano Chamber members and also serves as an opportunity to get connected to the business community. </span></span></span></p>\n
LOCATION:AlleeOops Photography will hold their Ribbon Cutting at: This Side Up Family Services 1100 Capital Ave Plano\, TX 75074 (Located on the SE corner of Capital and Avenue K\, North of Plano Parkway)
UID:e.854.5296
SEQUENCE:3
DTSTAMP:20260420T104651Z
URL:https://members.planochamber.org/events/details/ribbon-cutting-alleeoops-photography-10-23-2014-5296
END:VEVENT

END:VCALENDAR
