BEGIN:VCALENDAR
VERSION:2.0
PRODID:-//ChamberMaster//Event Calendar 2.0//EN
METHOD:PUBLISH
X-PUBLISHED-TTL:P3D
REFRESH-INTERVAL:P3D
CALSCALE:GREGORIAN
BEGIN:VEVENT
DTSTART:20190618T123000Z
DTEND:20190618T143000Z
X-MICROSOFT-CDO-ALLDAYEVENT:FALSE
SUMMARY:RESCHEDULED: Women's Division Morning Workshop
DESCRIPTION:This event has been move to August 20\, 2019. Visit the new event page.\n\nEvent Refund Policy
X-ALT-DESC;FMTTYPE=text/html:<div style="text-align: center\;">This event has been move to August 20\, 2019. Visit the new event page.</div>\n\n<div style="text-align: center\;"><span style="font-size:16px\;"><u><strong><a href="http://www.planochamber.org/wp-content/uploads/EVENT.Cancellation-RefundPolicy.pdf">Event Refund Policy</a></strong></u></span></div>\n
LOCATION:Plano Chamber of Commerce 5400 Independence Pkwy.\, Suite 200 Plano\, TX 75023
UID:e.854.16807
SEQUENCE:3
DTSTAMP:20260425T171710Z
URL:https://members.planochamber.org/events/details/rescheduled-women-s-division-morning-workshop-16807
END:VEVENT

END:VCALENDAR
