BEGIN:VCALENDAR
VERSION:2.0
PRODID:-//ChamberMaster//Event Calendar 2.0//EN
METHOD:PUBLISH
X-PUBLISHED-TTL:P3D
REFRESH-INTERVAL:P3D
CALSCALE:GREGORIAN
BEGIN:VEVENT
DTSTART:20141115T170000Z
DTEND:20141115T200000Z
X-MICROSOFT-CDO-ALLDAYEVENT:FALSE
SUMMARY:RBFCU's Plano Branch Community Day Celebration!
DESCRIPTION:You're Invited to RBFCU's Plano Branch Community Day Celebration! Enjoy free food\, fun\, and prizes!
X-ALT-DESC;FMTTYPE=text/html:<p><span style="font-size: 14px\;"><strong><span style="font-family: verdana\;">You&#39\;re Invited to RBFCU&#39\;s Plano Branch Community Day Celebration! Enjoy free food\, fun\, and prizes!</span></strong></span></p>\n
LOCATION:1801 Dallas Parkway (next to Costco)
UID:e.854.5363
SEQUENCE:3
DTSTAMP:20260420T085228Z
URL:https://members.planochamber.org/events/details/rbfcu-s-plano-branch-community-day-celebration-11-15-2014-5363
END:VEVENT

END:VCALENDAR
