BEGIN:VCALENDAR
VERSION:2.0
PRODID:-//ChamberMaster//Event Calendar 2.0//EN
METHOD:PUBLISH
X-PUBLISHED-TTL:P3D
REFRESH-INTERVAL:P3D
CALSCALE:GREGORIAN
BEGIN:VEVENT
DTSTART:20141102T003000Z
DTEND:20141102T020000Z
X-MICROSOFT-CDO-ALLDAYEVENT:FALSE
SUMMARY:Plano Civic Chorus Presents "Basically Haydn"
DESCRIPTION:Sheer excitement\, beauty\, and classical elegance come together in Haydn's last major choral work\, Harmoniemesse. Haydn's critics at the time were sure he was void of any new musical ideas but this great mass surprised tham all!  The concert also features Haydn's delightful TE Deum No. 2\, composed for Maria Theresa\, and two audience favorites from Haydn's friend and colleague\, Wolfgang Amadeus Mozart!.\n\nFeaturing soloists Haley Sicking\, Brooke Gibson\, Alex Bumpas\, Brandon Gibson\, and accompanied by the Plano Symphony Orchestra.
X-ALT-DESC;FMTTYPE=text/html:<p style="margin: 15px 0px\; color: rgb(68\, 68\, 68)\; line-height: 20px\; font-family: &quot\;Open Sans&quot\;\; font-size: 14px\;">Sheer excitement\, beauty\, and classical elegance come together in Haydn&#39\;s last major choral work\, Harmoniemesse. Haydn&#39\;s critics at the time were sure he was void of any new musical ideas but this great mass surprised tham all!&nbsp\; The concert also features Haydn&#39\;s delightful TE Deum No. 2\, composed for Maria Theresa\, and two audience favorites from Haydn&#39\;s friend and colleague\, Wolfgang Amadeus Mozart!.</p>\n\n<p style="margin: 15px 0px\; color: rgb(68\, 68\, 68)\; line-height: 20px\; font-family: &quot\;Open Sans&quot\;\; font-size: 14px\;">Featuring soloists&nbsp\;<strong>Haley Sicking\, Brooke Gibson\, Alex Bumpas\, Brandon Gibson</strong>\, and accompanied by the&nbsp\;<strong>Plano Symphony Orchestra</strong>.</p>\n
LOCATION:Custer Road United Methodist Church 6601 Custer Road Plano\, TX 75023
UID:e.854.5328
SEQUENCE:3
DTSTAMP:20260420T084731Z
URL:https://members.planochamber.org/events/details/plano-civic-chorus-presents-basically-haydn-11-01-2014-5328
END:VEVENT

END:VCALENDAR
