BEGIN:VCALENDAR
VERSION:2.0
PRODID:-//ChamberMaster//Event Calendar 2.0//EN
METHOD:PUBLISH
X-PUBLISHED-TTL:P3D
REFRESH-INTERVAL:P3D
CALSCALE:GREGORIAN
BEGIN:VEVENT
DTSTART:19800101T060000Z
DTEND:19800101T060000Z
X-MICROSOFT-CDO-ALLDAYEVENT:FALSE
SUMMARY:Opportunity 2001
DESCRIPTION:
X-ALT-DESC;FMTTYPE=text/html:
LOCATION:
UID:e.854.21
SEQUENCE:3
DTSTAMP:20260423T115315Z
URL:https://members.planochamber.org/events/details/opportunity-2001-01-01-1980-21
END:VEVENT

END:VCALENDAR
