BEGIN:VCALENDAR
VERSION:2.0
PRODID:-//ChamberMaster//Event Calendar 2.0//EN
METHOD:PUBLISH
X-PUBLISHED-TTL:P3D
REFRESH-INTERVAL:P3D
CALSCALE:GREGORIAN
BEGIN:VEVENT
DTSTART:20141025T150000Z
DTEND:20141026T000000Z
X-MICROSOFT-CDO-ALLDAYEVENT:FALSE
SUMMARY:Official Grand Opening!
DESCRIPTION:Come join us for our Official Grand Opening! We will have gifts for our first customers including gift cards and autographed jerseys as well as Grand Opening specials and pricing!
X-ALT-DESC;FMTTYPE=text/html:Come join us for our Official Grand Opening! We will have gifts for our first customers including gift cards and autographed jerseys as well as Grand Opening specials and pricing!
LOCATION:Aaron Brothers Framing 7632 Campbell Rd\, Ste 314 Dallas\, TX 75248 SE corner of Coit & Campbell
UID:e.854.5317
SEQUENCE:3
DTSTAMP:20260420T100501Z
URL:https://members.planochamber.org/events/details/official-grand-opening-10-25-2014-5317
END:VEVENT

END:VCALENDAR
