BEGIN:VCALENDAR
VERSION:2.0
PRODID:-//ChamberMaster//Event Calendar 2.0//EN
METHOD:PUBLISH
X-PUBLISHED-TTL:P3D
REFRESH-INTERVAL:P3D
CALSCALE:GREGORIAN
BEGIN:VEVENT
DTSTART:20251128T134500Z
DTEND:20251128T163000Z
X-MICROSOFT-CDO-ALLDAYEVENT:FALSE
SUMMARY:No Friday Morning At The Chamber
DESCRIPTION:Closed for Thanksgiving
X-ALT-DESC;FMTTYPE=text/html:<div style="text-align: center\;"><span style="font-size:26px\;"><strong>Closed for Thanksgiving</strong></span></div>\n
LOCATION:
UID:e.854.24432
SEQUENCE:3
DTSTAMP:20260422T121408Z
URL:https://members.planochamber.org/events/details/no-friday-morning-at-the-chamber-24432
END:VEVENT

END:VCALENDAR
