BEGIN:VCALENDAR
VERSION:2.0
PRODID:-//ChamberMaster//Event Calendar 2.0//EN
METHOD:PUBLISH
X-PUBLISHED-TTL:P3D
REFRESH-INTERVAL:P3D
CALSCALE:GREGORIAN
BEGIN:VEVENT
DTSTART:20141128T130000Z
DTEND:20141128T150000Z
X-MICROSOFT-CDO-ALLDAYEVENT:FALSE
SUMMARY:NO BUSINESS INTERCHANGE (BI) TODAY
DESCRIPTION:There will be no Business Interchange (BI) today due to the Thanksgiving holiday. \n\n\n\nBI will resume next Friday\, December 5 at 7:00 AM. \n\n\n\nThe Plano Chamber office will be closed and will reopen on Monday\, December 1.
X-ALT-DESC;FMTTYPE=text/html:<div style="text-align: center\;"><br />\n<span style="font-family:arial\,sans-serif\;"><span style="font-size:10.5pt\;"><strong>There will be no Business Interchange (BI) today due to the Thanksgiving holiday. </strong><br />\n<br />\nBI will resume next <strong>Friday\, December 5 </strong>at <strong>7:00 AM</strong>. </span></span><br />\n<br />\n<span style="font-size:14px\;">The Plano Chamber office will be closed and will reopen on Monday\, December 1.</span></div>\n
LOCATION:Plano Chamber of Commerce 1200 E. 15th Street Plano TX 75074
UID:e.854.3627
SEQUENCE:3
DTSTAMP:20260420T084845Z
URL:https://members.planochamber.org/events/details/no-business-interchange-bi-today-11-28-2014-3627
END:VEVENT

END:VCALENDAR
