BEGIN:VCALENDAR
VERSION:2.0
PRODID:-//ChamberMaster//Event Calendar 2.0//EN
METHOD:PUBLISH
X-PUBLISHED-TTL:P3D
REFRESH-INTERVAL:P3D
CALSCALE:GREGORIAN
BEGIN:VEVENT
DTSTART:20141026T013000Z
DTEND:20141026T043000Z
X-MICROSOFT-CDO-ALLDAYEVENT:FALSE
SUMMARY:Missing Three at TAVERNA ROSSA
DESCRIPTION:Missing Three is known for a wide variety of musical styles from oldie classics to today's top hits! The entertainment is never ending with an inventive bucket percussion routines like the famous Broadway show "Stomp!"\, unique artwork created right on stage\, a guitarist who does handstands while playing\, and a big voiced female vocalists\, larger than Christina Aguilera!\n\nThis is going to be the cherry on top of your week. Come for the music\, stay for the $5 munchies and Late Night "Hoppy" Hour pricing.
X-ALT-DESC;FMTTYPE=text/html:<p style="margin: 0px 0px 25px\; padding: 0px\; text-align: justify\; color: rgb(68\, 68\, 68)\; line-height: 1.6em\; font-family: &quot\;Droid Sans&quot\;\, Arial\, sans-serif\; font-size: 16px\;"><a data-mce-="" href="https://www.facebook.com/movingcolors" style="margin: 0px\; padding: 0px\;" target="_blank" title="Moving Colors Facebook Page">Missing Three</a>&nbsp\;is known for a wide variety of musical styles from oldie classics to today&#39\;s top hits! The entertainment is never ending with an inventive bucket percussion routines like the famous Broadway show &quot\;Stomp!&quot\;\, unique artwork created right on stage\, a guitarist who does handstands while playing\, and a big voiced female vocalists\, larger than Christina Aguilera!</p>\n\n<p style="margin: 0px 0px 25px\; padding: 0px\; text-align: justify\; color: rgb(68\, 68\, 68)\; line-height: 1.6em\; font-family: &quot\;Droid Sans&quot\;\, Arial\, sans-serif\; font-size: 16px\;">This is going to be the cherry on top of your week. Come for the music\, stay for the $5 munchies and&nbsp\;<a data-mce-="" href="http://www.tavernarossa.com/beverage" style="margin: 0px\; padding: 0px\;" target="_blank" title="Taverna Rossa Bar Menu">Late Night &quot\;Hoppy&quot\; Hour</a>&nbsp\;pricing.</p>\n
LOCATION:Located on the North-West corner of Preston Road and Lorimar in Plano at the Lakeside Market next to Mi Cocina. 4005 Preston Road\, Ste 512 Plano\, TX 75093
UID:e.854.5289
SEQUENCE:3
DTSTAMP:20260420T102840Z
URL:https://members.planochamber.org/events/details/missing-three-at-taverna-rossa-10-25-2014-5289
END:VEVENT

END:VCALENDAR
