BEGIN:VCALENDAR
VERSION:2.0
PRODID:-//ChamberMaster//Event Calendar 2.0//EN
METHOD:PUBLISH
X-PUBLISHED-TTL:P3D
REFRESH-INTERVAL:P3D
CALSCALE:GREGORIAN
BEGIN:VEVENT
DTSTART:20141016T223000Z
DTEND:20141017T003000Z
X-MICROSOFT-CDO-ALLDAYEVENT:FALSE
SUMMARY:Leadership Plano New Class Reception
DESCRIPTION:You are invited to welcome the newest Leadership Plano Class at a reception at Gleneagles Country Club!\n\n\n\nMeet the members of LP Class 32 and reconnect with your class members and other alumni. \n\n\n\n \n\nFamily members and guests welcome.\n\n\n\nRefreshments will be served.\n\nCash bar.
X-ALT-DESC;FMTTYPE=text/html:<div style="text-align: center\;"><br />\n<span style="font-size:16px\;"><span style="font-size:18px\;"><span style="color:#000080\;">You are invited to welcome the newest Leadership Plano Class at a reception at Gleneagles Country Club!</span><br />\n<br />\n<span style="color:#000080\;">Meet the members of LP Class 32 and reconnect with your class members and other alumni. </span></span></span><br />\n<br />\n&nbsp\;</div>\n\n<div style="text-align: center\;"><span style="font-size:16px\;">Family members and guests welcome.<br />\n<br />\n<span style="font-size:14px\;">Refreshments will be served.<br />\nCash bar.&nbsp\;</span></span></div>\n
LOCATION:Gleneagles Country Club 5401 W. Park Blvd. Plano\, TX 75093
UID:e.854.3943
SEQUENCE:3
DTSTAMP:20260420T102920Z
URL:https://members.planochamber.org/events/details/leadership-plano-new-class-reception-10-16-2014-3943
END:VEVENT

END:VCALENDAR
