BEGIN:VCALENDAR
VERSION:2.0
PRODID:-//ChamberMaster//Event Calendar 2.0//EN
METHOD:PUBLISH
X-PUBLISHED-TTL:P3D
REFRESH-INTERVAL:P3D
CALSCALE:GREGORIAN
BEGIN:VEVENT
DTSTART:20260505T223000Z
DTEND:20260505T233000Z
X-MICROSOFT-CDO-ALLDAYEVENT:FALSE
SUMMARY:Leadership Plano Information Session - 5/5/26(Virtual)
DESCRIPTION:Join the conversation to learn about the Leadership Plano (LP) Program and how to apply for Class 43. Program Director Charmaine Solomon and members of the LP Recruitment Committee will join the Zoom Call.
X-ALT-DESC;FMTTYPE=text/html:<span style="font-size:18px\;"><strong>Join the conversation to learn about the Leadership Plano (LP) Program and how to apply for Class 43. Program Director Charmaine Solomon and members of the LP Recruitment Committee will join the Zoom Call.&nbsp\;</strong></span>
LOCATION:This will be a Zoom meeting\, The Zoom link will be sent the morning of the call. Please email namratas@planochamber.org if you do not receive the ZOOM link by 1:00P.M.
UID:e.854.24834
SEQUENCE:3
DTSTAMP:20260419T224322Z
URL:https://members.planochamber.org/events/details/leadership-plano-information-session-5-5-26-virtual-24834
END:VEVENT

END:VCALENDAR
