BEGIN:VCALENDAR
VERSION:2.0
PRODID:-//ChamberMaster//Event Calendar 2.0//EN
METHOD:PUBLISH
X-PUBLISHED-TTL:P3D
REFRESH-INTERVAL:P3D
CALSCALE:GREGORIAN
BEGIN:VEVENT
DTSTART;VALUE=DATE:20141031
DTEND;VALUE=DATE:20141101
TRANSP:TRANSPARENT
X-MICROSOFT-CDO-ALLDAYEVENT:TRUE
SUMMARY:Leadership Plano Alumni Contributions 2014
DESCRIPTION:THANK YOU FOR YOUR SUPPORT OF LEADERSHIP PLANO!\n\nTO MAKE AN ALUMNI DONATION\, PLEASE CLICK THE "REGISTER NOW" BUTTON ABOVE. YOU WILL BE PROMPTED TO MAKE YOUR SELECTION. CHAMBER MEMBERS CAN USE THEIR MEMBER LOGIN TO REGISTER. IF NOT A MEMBER OF THE CHAMBER\, SIMPLY SELECT "NOT A MEMBER?" AND PROCEED WITH REGISTRATION.\nAs Leadership Plano embarks on its 33nd year of educating\, developing\, and empowering current and future leaders\, the impact this great program has made on our community is clear:\n\n\n	18 City Council Members\n	17 PISD School Board Members\n	4 County Judges\n	3 Collin County Commissioners\n	3 Chamber of Commerce Presidents\n	11 Plano Citizens of the Year\n	And HUNDREDS of city\, school district and college administrators\, nonprofit executive directors and city\, county and nonprofit Board members.\n\n\nWe need your support to maintain the high quality and success of Leadership Plano. We simply cannot do it without your help! Support the newest class of leaders and contribute today!
X-ALT-DESC;FMTTYPE=text/html:<h1 style="text-align: center\;"><span style="font-family: arial\;"><span style="color: rgb(255\, 0\, 0)\;"><strong><em><span style="font-size: 20px\;">THANK YOU FOR YOUR SUPPORT OF LEADERSHIP PLANO!</span></em></strong></span></span></h1>\n\n<p style="text-align: center\;"><strong><span style="font-size: 14px\;"><span style="font-family: arial\;"><em>TO MAKE AN ALUMNI DONATION\, PLEASE CLICK THE &quot\;REGISTER NOW&quot\; BUTTON ABOVE. YOU WILL BE PROMPTED TO MAKE YOUR SELECTION. CHAMBER MEMBERS CAN USE THEIR MEMBER LOGIN TO REGISTER. IF NOT A MEMBER OF THE CHAMBER\, SIMPLY SELECT &quot\;NOT A MEMBER?&quot\; AND PROCEED WITH REGISTRATION.</em></span></span></strong></p>\n<span style="font-size: 14px\;"><span style="font-family: arial\;">As Leadership Plano embarks on its&nbsp\;33nd&nbsp\;year of educating\, developing\, and empowering current and future leaders\, the impact this great program has made on our community is clear:</span></span>\n\n<ul>\n	<li><span style="font-size: 14px\;"><span style="font-family: arial\;">18 City Council Members</span></span></li>\n	<li><span style="font-size: 14px\;"><span style="font-family: arial\;">17&nbsp\;PISD&nbsp\;School Board Members</span></span></li>\n	<li><span style="font-size: 14px\;"><span style="font-family: arial\;">4 County Judges</span></span></li>\n	<li><span style="font-size: 14px\;"><span style="font-family: arial\;">3 Collin County Commissioners</span></span></li>\n	<li><span style="font-size: 14px\;"><span style="font-family: arial\;">3 Chamber of Commerce Presidents</span></span></li>\n	<li><span style="font-size: 14px\;"><span style="font-family: arial\;">11&nbsp\;Plano Citizens of the Year</span></span></li>\n	<li><span style="font-size: 14px\;"><span style="font-family: arial\;"><span new="" times="">And HUNDREDS of city\, school district and college administrators\, nonprofit executive directors and city\, county and nonprofit Board members.</span></span></span></li>\n</ul>\n\n<p style="text-align: center\;"><span style="font-size: 14px\;"><span style="font-family: arial\;"><span style="color: black\;">We need your support to maintain the high quality and success of Leadership Plano. We simply cannot do it without your help! Support the newest class of leaders and contribute today!</span></span></span><br />\n&nbsp\;</p>\n
LOCATION:Mail all donations to the Plano Chamber of Commerce: Leadership Plano 1200 E. 15th Street Plano\, TX 75074
UID:e.854.4195
SEQUENCE:3
DTSTAMP:20260420T100511Z
URL:https://members.planochamber.org/events/details/leadership-plano-alumni-contributions-2014-10-31-2014-4195
END:VEVENT

END:VCALENDAR
