BEGIN:VCALENDAR
VERSION:2.0
PRODID:-//ChamberMaster//Event Calendar 2.0//EN
METHOD:PUBLISH
X-PUBLISHED-TTL:P3D
REFRESH-INTERVAL:P3D
CALSCALE:GREGORIAN
BEGIN:VEVENT
DTSTART:19800101T060000Z
DTEND:19800101T060000Z
X-MICROSOFT-CDO-ALLDAYEVENT:FALSE
SUMMARY:Leadership Plano 25th Anniversary Celebration
DESCRIPTION:
X-ALT-DESC;FMTTYPE=text/html:
LOCATION:
UID:e.854.57
SEQUENCE:3
DTSTAMP:20260423T115821Z
URL:https://members.planochamber.org/events/details/leadership-plano-25th-anniversary-celebration-01-01-1980-57
END:VEVENT

END:VCALENDAR
