BEGIN:VCALENDAR
VERSION:2.0
PRODID:-//ChamberMaster//Event Calendar 2.0//EN
METHOD:PUBLISH
X-PUBLISHED-TTL:P3D
REFRESH-INTERVAL:P3D
CALSCALE:GREGORIAN
BEGIN:VEVENT
DTSTART;VALUE=DATE:20141224
DTEND;VALUE=DATE:20141227
TRANSP:TRANSPARENT
X-MICROSOFT-CDO-ALLDAYEVENT:TRUE
SUMMARY:Happy Holidays! Chamber Offices Closed
DESCRIPTION:The Plano Chamber offices are closed from Wednesday\, December 24 - Friday\, December 26 in recognition of the holiday season.\n\n\n\nThere will be no Business Interchange (BI) on Friday\, December 26. BI will resume on Friday\, January 2 at 7:00 AM.\n\n\n\nThe office will reopen on Monday\, December 29 at 8:30 AM. \n\n\n\n\n\nHave a safe and happy holiday season from the Plano Chamber staff!
X-ALT-DESC;FMTTYPE=text/html:<div style="text-align: center\;"><br />\n<span style="font-size: 14px\;"><strong>The Plano Chamber offices are closed from Wednesday\, December 24 - Friday\, December 26 in recognition of the holiday season.<br />\n<br />\nThere will be no Business Interchange (BI) on Friday\, December 26. BI will resume on Friday\, January 2 at 7:00 AM.<br />\n<br />\nThe office will reopen on Monday\, December 29 at 8:30 AM. </strong></span><br />\n<br />\n<br />\n<span style="font-size: 16px\;"><strong>Have a safe and happy holiday season from the Plano Chamber staff! </strong></span></div>\n
LOCATION:
UID:e.854.5330
SEQUENCE:3
DTSTAMP:20260420T085429Z
URL:https://members.planochamber.org/events/details/happy-holidays-chamber-offices-closed-12-24-2014-5330
END:VEVENT

END:VCALENDAR
