BEGIN:VCALENDAR
VERSION:2.0
PRODID:-//ChamberMaster//Event Calendar 2.0//EN
METHOD:PUBLISH
X-PUBLISHED-TTL:P3D
REFRESH-INTERVAL:P3D
CALSCALE:GREGORIAN
BEGIN:VEVENT
DTSTART:20141031T230000Z
DTEND:20141101T020000Z
X-MICROSOFT-CDO-ALLDAYEVENT:FALSE
SUMMARY:Halloween Block Party
DESCRIPTION:Halloween is a fun time for children\, & adults as well\, and is recognized on October 31 each year. The festive day is marked by people wearing costumes & children going door to door requesting tricks or treats.  AFFECT\, Inc. chose Halloween as an opportunity to promote safety & wellness through a community event by hosting fun activities\, meeting neighbors & obtaining educational information for better health & safety. \n\n \n\nOn October 31\, 2011 AFFECT\, Inc. hosted the 1st Fall Festival Halloween Block Party. Over 400 participants were in attendance for this outstanding event. This community endeavor provided a safe environment for AFFECT\, Inc. to supply fun treats (e.g.\, Haunted Hospital\, \, Cake Walk\, putt\, putt\, golf\, & more..)\, food treats (healthy snacks & a few candy treats\, etc.)\, medical treats (e.g.\, Immunizations & CHIP Registration)\, safety treats (e.g.\, Plano Police & Fire Department demonstrations on personal safety & fire rescue) to all those in attendance. This unique event was supported by over 50 volunteers from the community.
X-ALT-DESC;FMTTYPE=text/html:<span style="font-size: medium\;"><span style="font-family: times new roman\;">Halloween is a fun time for children\, &amp\; adults as well\, and&nbsp\;is recognized on October 31 each year. The festive day is marked by people wearing costumes &amp\; children going door to door requesting tricks or treats.&nbsp\; AFFECT\, Inc. chose Halloween as an opportunity to promote safety &amp\; wellness through a community event by hosting fun activities\, meeting neighbors &amp\; obtaining educational information for better health &amp\; safety. </span></span><br />\n&nbsp\;<br />\n<span style="font-size: 12pt\;"><span style="font-family: times new roman\,serif\;">On October 31\, 2011 AFFECT\, Inc. hosted the 1<sup>st</sup> Fall Festival Halloween Block Party. Over 400 participants were in attendance for this outstanding event. This community endeavor provided a safe environment for AFFECT\, Inc. to supply fun treats (e.g.\, Haunted Hospital\, \, Cake Walk\, putt\, putt\, golf\, &amp\; more..)\, food treats (healthy snacks &amp\; a few candy treats\, etc.)\, medical treats (e.g.\, Immunizations &amp\; CHIP Registration)\, </span></span><span style="font-size: medium\;"><span style="font-family: times new roman\;">safety treats (e.g.\, Plano Police &amp\; Fire Department demonstrations on personal safety &amp\; fire rescue) to all those in attendance. This unique event was supported by over 50 volunteers from the community. </span></span>
LOCATION:1026 F Avenue Plano\, Texas 75074
UID:e.854.2932
SEQUENCE:3
DTSTAMP:20260420T103111Z
URL:https://members.planochamber.org/events/details/halloween-block-party-10-31-2014-2932
END:VEVENT

END:VCALENDAR
