BEGIN:VCALENDAR
VERSION:2.0
PRODID:-//ChamberMaster//Event Calendar 2.0//EN
METHOD:PUBLISH
X-PUBLISHED-TTL:P3D
REFRESH-INTERVAL:P3D
CALSCALE:GREGORIAN
BEGIN:VEVENT
DTSTART:20141018T160000Z
DTEND:20141018T180000Z
X-MICROSOFT-CDO-ALLDAYEVENT:FALSE
SUMMARY:Free North Texas Private School Fair
DESCRIPTION:The 13th annual North Texas Private School Fair is on Saturday\, Oct. 18\, and is free to the public.  Parents and students will have the opportunity to visit with more than 40 private schools from around DFW\, including those that accept international students\, as well as some boarding schools from outside the area.  The event will take place in the Leadership Center of Prestonwood Christian Academy at 6801 W. Park Blvd. in Plano\, TX. For more information\, call 972-930-4010 or visit www.prestonwoodchristian.org/admissions
X-ALT-DESC;FMTTYPE=text/html:<span itemprop="description"><span id="phCenterColumn_ctl00_rptObjectList_ctrlObjectDisplay1_0_lblCalendarText_0">The 13th annual North Texas Private School Fair is on Saturday\, Oct. 18\, and is free to the public.&nbsp\; Parents and students will have the opportunity to visit with more than 40 private schools from around DFW\, including those that accept international students\, as well as some boarding schools from outside the area.&nbsp\; The event will take place in the Leadership Center of Prestonwood Christian Academy at 6801 W. Park Blvd. in Plano\, TX.</span></span> For more information\, call 972-930-4010 or visit www.prestonwoodchristian.org/admissions
LOCATION:6801 W. Park Blvd. in Plano\, TX
UID:e.854.5306
SEQUENCE:3
DTSTAMP:20260420T101433Z
URL:https://members.planochamber.org/events/details/free-north-texas-private-school-fair-10-18-2014-5306
END:VEVENT

END:VCALENDAR
