BEGIN:VCALENDAR
VERSION:2.0
PRODID:-//ChamberMaster//Event Calendar 2.0//EN
METHOD:PUBLISH
X-PUBLISHED-TTL:P3D
REFRESH-INTERVAL:P3D
CALSCALE:GREGORIAN
BEGIN:VEVENT
DTSTART:20141106T233000Z
DTEND:20141107T010000Z
X-MICROSOFT-CDO-ALLDAYEVENT:FALSE
SUMMARY:Face Tomorrow Charity Event
DESCRIPTION:This event supports the local and national programs associated with the pro bono facial reconstructive Dr. Brobst does for survivors of domestic violence. This a complete charity event and all proceeds will go to the local Collin County domestic violence shelter and to support the AAFPRS Face to Face program for facial reconstructive surgery.\n\nCall our office to RSVP today! Tickets are available at the door!\n\n\n\nContact Irene 972-618-2212 to RSVP your tickets today!
X-ALT-DESC;FMTTYPE=text/html:This event supports the local and national programs associated with the pro bono facial reconstructive Dr. Brobst does for survivors of domestic violence. This a complete charity event and all proceeds will go to the local Collin County domestic violence shelter and to support the AAFPRS Face to Face program for facial reconstructive surgery.<br />\nCall our office to RSVP today! Tickets are available at the door!<br />\n<br />\nContact Irene 972-618-2212 to RSVP your tickets today!
LOCATION:Brobst Facial Plastic Surgery
UID:e.854.5352
SEQUENCE:3
DTSTAMP:20260420T084845Z
URL:https://members.planochamber.org/events/details/face-tomorrow-charity-event-11-06-2014-5352
END:VEVENT

END:VCALENDAR
