BEGIN:VCALENDAR
VERSION:2.0
PRODID:-//ChamberMaster//Event Calendar 2.0//EN
METHOD:PUBLISH
X-PUBLISHED-TTL:P3D
REFRESH-INTERVAL:P3D
CALSCALE:GREGORIAN
BEGIN:VEVENT
DTSTART:20141017T160000Z
DTEND:20141017T220000Z
X-MICROSOFT-CDO-ALLDAYEVENT:FALSE
SUMMARY:Cookies By Design FREE Cupcake Day!
DESCRIPTION:WBENC Bakery Special Event... CUPCAKES!\n\nAsk about your logo image to promote your business
X-ALT-DESC;FMTTYPE=text/html:WBENC Bakery Special Event... CUPCAKES!<br />\nAsk about your logo image to promote your business
LOCATION:Cookies By Design 3100 Independence Pkwy #101 Plano\, TX 75075
UID:e.854.5311
SEQUENCE:3
DTSTAMP:20260420T103615Z
URL:https://members.planochamber.org/events/details/cookies-by-design-free-cupcake-day-10-17-2014-5311
END:VEVENT

END:VCALENDAR
