BEGIN:VCALENDAR
VERSION:2.0
PRODID:-//ChamberMaster//Event Calendar 2.0//EN
METHOD:PUBLISH
X-PUBLISHED-TTL:P3D
REFRESH-INTERVAL:P3D
CALSCALE:GREGORIAN
BEGIN:VEVENT
DTSTART;VALUE=DATE:20221220
DTEND;VALUE=DATE:20230101
TRANSP:TRANSPARENT
X-MICROSOFT-CDO-ALLDAYEVENT:TRUE
SUMMARY:Contribute to Leadership Plano today!
DESCRIPTION:SUPPORT LEADERSHIP PLANO TODAY!\n\nLeadership Plano continues to play an essential role in developing and inspiring North Texas current and future leaders and we need your support to ensure that we can provide Class 39 with a robust curriculum and engaging events.  \n\n\n\nWe are focused on our mission of developing leaders and motivating them to serve civic\, charitable\, and business organizations. Your support truly makes a difference!\n\n\n\nClick Register Now to Make a Donation Online.\n\n\n\nCurrent Plano Chamber members can simply login and complete the process.\n\n\n\nAll others - Under Not a member? Click on Click here to continue your event registration and follow the steps.\n\n\n\nYou may also mail a donation to:\n\nLeadership Plano\n\nc/o Jennifer Ruhman\n\n5400 Independence Pkwy.\, Ste. 200\n\nPlano\, TX 75023\n\nThank you for your support
X-ALT-DESC;FMTTYPE=text/html:<div style="text-align: center\;"><span style="font-size:14px\;"><span style="font-family:arial\;"><b>SUPPORT LEADERSHIP PLANO TODAY!</b></span></span></div>\n\n<p><span style="font-size:14px\;"><span style="font-family:arial\;">Leadership Plano continues to play an essential role in developing and inspiring North Texas current and future leaders and we need your support to ensure that we can provide Class 39 with a robust curriculum and engaging events.&nbsp\;&nbsp\;<br />\n<br />\nWe are&nbsp\;focused on our mission of developing leaders and motivating them to serve civic\, charitable\, and business organizations. <strong>Your support truly makes a difference!</strong><br />\n<br />\nClick <strong>Register Now </strong>to Make a Donation Online.<br />\n<br />\nCurrent Plano Chamber members can simply <strong>login</strong> and complete the process.<br />\n<br />\nAll others - Under <strong>Not a member?</strong> Click on <strong>Click here to continue your event registration </strong>and follow the steps.</span></span></p>\n\n<p><br />\n<span style="font-size:14px\;"><strong><span style="font-family:arial\;">You may also mail a donation to:</span></strong></span></p>\n\n<p><span style="font-size:14px\;"><span style="font-family:arial\;"><strong style="font-family: arial\; font-size: 13px\; background-color: rgb(255\, 255\, 255)\;">Leadership Plano</strong><br style="font-family: arial\; font-size: 13px\; background-color: rgb(255\, 255\, 255)\;" />\n<span style="background-color: rgb(255\, 255\, 255)\;">c/o Jennifer Ruhman</span><br style="font-family: arial\; font-size: 13px\; background-color: rgb(255\, 255\, 255)\;" />\n<span style="background-color: rgb(255\, 255\, 255)\; line-height: 21.3333px\;">5400 Independence Pkwy.\, Ste. 200<br />\nPlano\, TX 75023</span></span></span></p>\n\n<p>Thank you for your support</p>\n
LOCATION:
UID:e.854.22030
SEQUENCE:3
DTSTAMP:20260420T062553Z
URL:https://members.planochamber.org/events/details/contribute-to-leadership-plano-today-22030
END:VEVENT

END:VCALENDAR
