BEGIN:VCALENDAR
VERSION:2.0
PRODID:-//ChamberMaster//Event Calendar 2.0//EN
METHOD:PUBLISH
X-PUBLISHED-TTL:P3D
REFRESH-INTERVAL:P3D
CALSCALE:GREGORIAN
BEGIN:VEVENT
DTSTART:20260617T140000Z
DTEND:20260617T153000Z
X-MICROSOFT-CDO-ALLDAYEVENT:FALSE
SUMMARY:Community Event: Complimentary Workshop: Breaking Through Sales Barriers with Sandler
DESCRIPTION:Come join Philip White to understand what's holding your Sales potential back.  Refine (or build) your team's approach to Sales and fix your pipeline in 90 minutes using Sandler best practices. This session is ideal for business owners\, sales leaders\, and anyone who wants to improve team performance and drive measurable growth.\n\n \nKey Takeaways:\n\n\n	Uncover common sales pitfalls that cause Sales team members to crash & burn. \n	Recognize your self-limiting beliefs that are preventing real change.\n	Ditch outdated sales tactics and gain sales skills that actually work in today's marketplace.\n	Sell with confidence\, after getting the secret sauce to closing deals consistently like a pro.
X-ALT-DESC;FMTTYPE=text/html:<span style="background-color:rgb(250\, 250\, 250)\; color:rgb(9\, 21\, 43)\; font-family:inter\; font-size:18px">Come join Philip White to understand what&#39\;s holding your Sales potential back.&nbsp\; Refine (or build) your team&#39\;s approach to Sales and fix your pipeline in 90 minutes using Sandler best practices. This session is ideal for&nbsp\;business owners\, sales leaders\, and anyone who wants to improve team performance and drive measurable growth.</span><br />\n&nbsp\;\n<h3><span style="font-family:arial\,helvetica\,sans-serif"><span style="font-size:14px">Key Takeaways:</span></span></h3>\n\n<ul>\n	<li><span style="font-family:arial\,helvetica\,sans-serif"><span style="font-size:14px">Uncover common sales pitfalls that cause Sales team members to crash &amp\; burn.&nbsp\;</span></span></li>\n	<li><span style="font-family:arial\,helvetica\,sans-serif"><span style="font-size:14px">Recognize your self-limiting beliefs that are preventing real change.</span></span></li>\n	<li><span style="font-family:arial\,helvetica\,sans-serif"><span style="font-size:14px">Ditch outdated sales tactics and gain sales skills that actually work in today&#39\;s marketplace.</span></span></li>\n	<li><span style="font-family:arial\,helvetica\,sans-serif"><span style="font-size:14px">Sell with confidence\, after getting the secret sauce to closing deals consistently like a pro.</span></span></li>\n</ul>\n
LOCATION:Plano Chamber of Commerce - Executive Conference Room
UID:e.854.24737
SEQUENCE:3
DTSTAMP:20260423T144443Z
URL:https://members.planochamber.org/events/details/complimentary-workshop-breaking-through-sales-barriers-with-sandler-06-17-2026-24737
END:VEVENT

END:VCALENDAR
