BEGIN:VCALENDAR
VERSION:2.0
PRODID:-//ChamberMaster//Event Calendar 2.0//EN
METHOD:PUBLISH
X-PUBLISHED-TTL:P3D
REFRESH-INTERVAL:P3D
CALSCALE:GREGORIAN
BEGIN:VEVENT
DTSTART;VALUE=DATE:20251101
DTEND;VALUE=DATE:20251102
TRANSP:TRANSPARENT
X-MICROSOFT-CDO-ALLDAYEVENT:TRUE
SUMMARY:Community Event: Wine & Dine with Kent Rathbun and Lando Wines
DESCRIPTION:Step into a world of culinary excellence with an unforgettable evening at the private residence of renowned chef Kent Rathbun. This exclusive auction package offers a rare opportunity to indulge in a meticulously crafted Argentine BBQ\, prepared with precision and passion by Chef Rathbun himself. The evening will be enhanced by a selection of exceptional wines\, perfectly paired to elevate each dish. Enjoy vintages from some of the finest wineries\, including Lando Winery\, Eleven Eleven Winery\, Reynolds Family Winery\, Simon Estate\, Lombardi Wines\, and Senses Winery. As you savor every bite and sip\, the night comes alive with an intimate songwriter session led by Patrick Davis\, joined by other notable Texas artists. Enjoy live music and the stories behind the songs in a rare\, up-close setting that adds a distinctive and unforgettable layer of artistry to the evening.\n\n\n\nHere's a preview of what's in store:\n\n\n\nArgentine BBQ\, Under the Stars\n\nChef Kent Rathbun will be preparing a festive\, family-style Argentine BBQ with bold flavors and an atmosphere that feels like dining among old friends.\n\nIncredible Wines\, Thoughtfully Paired\n\nGuests will enjoy curated wine pairings featuring rare vintages\, current releases\, and exclusive barrel samples from standout partners including Lando Wines\, Eleven Eleven\, Reynolds Family Winery (plus Penta Tequila)\, Simon Estate\, Arista\, Lombardi\, and Senses Winery.\n\nSongwriter Stories & Live Music\n\nThe evening features an intimate songwriter session with Patrick Davis and some of Texas' finest musicians   an unforgettable blend of storytelling and song.\n\nThe experience is $5\,000 per couple\, with proceeds benefiting the American Heart Association and its critical work in heart health and research.
X-ALT-DESC;FMTTYPE=text/html:Step into a world of culinary excellence with an unforgettable evening at the private residence of renowned chef Kent Rathbun. This exclusive auction package offers a rare opportunity to indulge in a meticulously crafted Argentine BBQ\, prepared with precision and passion by Chef Rathbun himself. The evening will be enhanced by a selection of exceptional wines\, perfectly paired to elevate each dish. Enjoy vintages from some of the finest wineries\, including Lando Winery\, Eleven Eleven Winery\, Reynolds Family Winery\, Simon Estate\, Lombardi Wines\, and Senses Winery. As you savor every bite and sip\, the night comes alive with an intimate songwriter session led by Patrick Davis\, joined by other notable Texas artists. Enjoy live music and the stories behind the songs in a rare\, up-close setting that adds a distinctive and unforgettable layer of artistry to the evening.<br />\n<br />\n<strong><span style="color:black">Here&rsquo\;s a preview of what&rsquo\;s in store:</span></strong><br />\n<br />\n<strong><span style="color:black">Argentine BBQ\, Under the Stars</span></strong><br />\n<span style="color:black">Chef&nbsp\;Kent&nbsp\;Rathbun will be preparing a festive\, family-style Argentine BBQ with bold flavors and an atmosphere that feels like dining among old friends.</span><br />\n<strong><span style="color:black">Incredible Wines\, Thoughtfully Paired</span></strong><br />\n<span style="color:black">Guests will enjoy curated wine pairings featuring rare vintages\, current releases\, and exclusive barrel samples from standout partners including Lando Wines\, Eleven Eleven\, Reynolds Family Winery (plus Penta Tequila)\, Simon Estate\, Arista\, Lombardi\, and Senses Winery.</span><br />\n<strong><span style="color:black">Songwriter Stories &amp\; Live Music</span></strong><br />\n<span style="color:black">The evening features an intimate songwriter session with Patrick Davis and some of Texas&rsquo\; finest musicians &mdash\; an unforgettable blend of storytelling and song.</span><br />\n<strong><span style="color:black">The experience is $5\,000 per couple</span></strong><span style="color:black">\, with proceeds benefiting the American Heart Association and its critical work in heart health and research.</span><br />\n&nbsp\;
LOCATION:Kent and Tracy Rathbun's home - Dallas\, TX
UID:e.854.24083
SEQUENCE:3
DTSTAMP:20260422T121854Z
URL:https://members.planochamber.org/events/details/community-event-wine-dine-with-kent-rathbun-and-lando-wines-24083
END:VEVENT

END:VCALENDAR
