BEGIN:VCALENDAR
VERSION:2.0
PRODID:-//ChamberMaster//Event Calendar 2.0//EN
METHOD:PUBLISH
X-PUBLISHED-TTL:P3D
REFRESH-INTERVAL:P3D
CALSCALE:GREGORIAN
BEGIN:VEVENT
DTSTART;VALUE=DATE:20251108
DTEND;VALUE=DATE:20251109
TRANSP:TRANSPARENT
X-MICROSOFT-CDO-ALLDAYEVENT:TRUE
SUMMARY:Community Event: Wellness Center for Older Adults' 7th Annual Community Resource Fair
DESCRIPTION:Join us for a day of connection\, learning\, and fun! Meet 60+ senior service vendors\, enjoy free blood\n\npressure checks\, and enter to win door prizes all designed to help older adults stay healthy\,\n\nactive\, and independent. New this year: Free Medication Review sessions with pharmacists and\n\npharmacy students trained to spot potential medication-related issues. Bring your meds in a bag\n\nand your medication list to learn what to discuss with your doctor. 20-minute sessions from 8:30\n\na.m. to 11:30 a.m. The CUTX Food Truck will be offering free breakfast to the first 300 guests starting at 9:00 am. The Thirst No More Coffee truck will be on-site\, offering coffee for a fee.\n\n\n\nDon't miss this chance to connect\, learn\, and have fun!
X-ALT-DESC;FMTTYPE=text/html:Join us for a day of connection\, learning\, and fun! Meet 60+ senior service vendors\, enjoy free blood<br />\npressure checks\, and enter to win door prizes&mdash\;all designed to help older adults stay healthy\,<br />\nactive\, and independent. New this year: Free Medication Review sessions with pharmacists and<br />\npharmacy students trained to spot potential medication-related issues. Bring your meds in a bag<br />\nand your medication list to learn what to discuss with your doctor. 20-minute sessions from 8:30<br />\na.m. to 11:30 a.m. The CUTX Food Truck will be offering free breakfast to the first 300 guests starting at 9:00 am. The Thirst No More Coffee truck will be on-site\, offering coffee for a fee.<br />\n<br />\nDon&rsquo\;t miss this chance to connect\, learn\, and have fun!
LOCATION:Sam Johnson Recreation Center For Adults 50+ 401 W. 16th St.\, Plano\, TX 7507
UID:e.854.24370
SEQUENCE:3
DTSTAMP:20260422T120658Z
URL:https://members.planochamber.org/events/details/community-event-wellness-center-for-older-adults-7th-annual-community-resource-fair-24370
END:VEVENT

END:VCALENDAR
