BEGIN:VCALENDAR
VERSION:2.0
PRODID:-//ChamberMaster//Event Calendar 2.0//EN
METHOD:PUBLISH
X-PUBLISHED-TTL:P3D
REFRESH-INTERVAL:P3D
CALSCALE:GREGORIAN
BEGIN:VEVENT
DTSTART:20251129T010000Z
DTEND:20251130T200000Z
X-MICROSOFT-CDO-ALLDAYEVENT:FALSE
SUMMARY:Community Event: The Nutcracker - Chamberlain Ballet
DESCRIPTION:Join Chamberlain Ballet this Thanksgiving weekend at the Eisemann Center as we bring The Nutcracker to life\, a holiday tradition that captures the joy of the season. Follow young Clara on her magical journey\, through the enchanting Kingdom of Snow to the playful Kingdom of Sweets\, where she meets the Sugar Plum Fairy and her Cavalier.\n\n\n\nWe are thrilled to be bringing American Ballet Theatre's newest Principal dancer\, Chloe Misseldine\, to perform as our Sugar Plum Fairy dancing alongside Tyler Angle of New York City Ballet. We're also delighted to be bringing back Guest Artists from Bruce Wood Dance Dallas in soloist roles.\n\n\n\nIn addition to the performances\, we're delighted to offer two special experiences that make the weekend even more memorable. Join us for the Opening Night Reception and the Sugar Plum Tea Party unique opportunities to connect with our guest artists\, share in the holiday spirit\, and create lasting memories with family and friends. Please visit chamberlainballet.org for more details.
X-ALT-DESC;FMTTYPE=text/html:<span style="font-size:14px">Join Chamberlain Ballet this Thanksgiving weekend at the Eisemann Center as we bring&nbsp\;<em>The Nutcracker</em>&nbsp\;to life\, a holiday tradition that captures the joy of the season. Follow young Clara on her magical journey\, through the enchanting Kingdom of Snow to the playful Kingdom of Sweets\, where she meets the Sugar Plum Fairy and her Cavalier.<br />\n<br />\nWe are thrilled to be bringing American Ballet Theatre&rsquo\;s newest Principal dancer\,&nbsp\;<strong>Chloe Misseldine</strong>\, to perform as our Sugar Plum Fairy dancing alongside&nbsp\;<strong>Tyler Angle</strong>&nbsp\;of New York City Ballet. We&rsquo\;re also delighted to be bringing back Guest Artists from&nbsp\;<strong>Bruce Wood Dance Dallas</strong>&nbsp\;in soloist roles.</span><br />\n<br />\n<span style="font-size:14px">In addition to the performances\, we&rsquo\;re delighted to offer two special experiences that make the weekend even more memorable. Join us for the <a href="https://chamberlainballet-bloom.kindful.com/e/the-nutcracker-opening-night-reception">Opening Night Reception</a> and the <a href="https://chamberlainballet-bloom.kindful.com/e/sugar-plum-tea-party">Sugar Plum Tea Party</a>&mdash\;unique opportunities to connect with our guest artists\, share in the holiday spirit\, and create lasting memories with family and friends. Please visit <a href="https://chamberlainballet.org/">chamberlainballet.org</a> for more details.</span>
LOCATION:Charles W. Eisemann Center for Performing Arts 2351 Performance Drive Richardson\, TX 75082
UID:e.854.24381
SEQUENCE:3
DTSTAMP:20260422T114924Z
URL:https://members.planochamber.org/events/details/community-event-the-nutcracker-chamberlain-ballet-24381
END:VEVENT

END:VCALENDAR
