BEGIN:VCALENDAR
VERSION:2.0
PRODID:-//ChamberMaster//Event Calendar 2.0//EN
METHOD:PUBLISH
X-PUBLISHED-TTL:P3D
REFRESH-INTERVAL:P3D
CALSCALE:GREGORIAN
BEGIN:VEVENT
DTSTART:20260502T163000Z
DTEND:20260502T183000Z
X-MICROSOFT-CDO-ALLDAYEVENT:FALSE
SUMMARY:Community Event: The Coin Jar Launch Party
DESCRIPTION:Dallas and Fort Worth community\, come be part of something meaningful!?\nJoin us for The Coin Jar s Launch Party in a brunch dedicated to raising funds and celebrating the start of something special.\n\nThe Coin Jar is an organization dedicated to helping single mothers who might be struggling\, by providing financial help as well as educating and empowering them through expert career advice and one-on-one assistance.\n\nThe more the merrier! Let s come together as a community\, and help single moms not just survive\, but thrive!\n\nIf you'd like to attend\, please RSVP to Amber at: amber@thecoinjar.org.\n\nFollow The Coin Jar Foundation!
X-ALT-DESC;FMTTYPE=text/html:<span style="color:rgb(36\, 36\, 36)\; font-family:segoe ui\,segoe ui web (west european)\,-apple-system\,blinkmacsystemfont\,roboto\,helvetica neue\,sans-serif\; font-size:15px">Dallas and Fort Worth community\, come be part of something meaningful!?</span>\n<div>Join us for The Coin Jar&acute\;s Launch Party in a brunch dedicated to raising funds and celebrating the start of something special.</div>\n\n<div>The Coin Jar is an organization dedicated to helping single mothers who might be struggling\, by providing financial help as well as educating and empowering them through expert career advice and one-on-one assistance.</div>\n\n<div>The more the merrier! Let&acute\;s come together as a community\, and help single moms not just survive\, but thrive!</div>\n\n<div>If you&rsquo\;d like to attend\, please RSVP to Amber at:&nbsp\;<a href="mailto:amber@thecoinjar.org" style="border: 0px\; font: inherit\; margin: 0px\; padding: 0px\; vertical-align: baseline\;" title="mailto:amber@thecoinjar.org">amber@thecoinjar.org</a>.</div>\n\n<div>Follow The Coin Jar Foundation!</div>\n
LOCATION:Place: In the Garden room at The Hotel Crescent\, 400 Crescent Ct\, Dallas\, TX 75201
UID:e.854.24920
SEQUENCE:3
DTSTAMP:20260419T223608Z
URL:https://members.planochamber.org/events/details/community-event-the-coin-jar-launch-party-24920
END:VEVENT

END:VCALENDAR
