BEGIN:VCALENDAR
VERSION:2.0
PRODID:-//ChamberMaster//Event Calendar 2.0//EN
METHOD:PUBLISH
X-PUBLISHED-TTL:P3D
REFRESH-INTERVAL:P3D
CALSCALE:GREGORIAN
BEGIN:VEVENT
DTSTART:20260513T213000Z
DTEND:20260514T000000Z
X-MICROSOFT-CDO-ALLDAYEVENT:FALSE
SUMMARY:Community Event: Knowledge is Power: Financial Strategies for Women
DESCRIPTION:During this complimentary session\, we'll discuss four areas that can impact women's financial lives and offer some strategies to help. We'll discuss the income gap women often face and how to plan for a longer lifespan\, manage multiple roles and responsibilities at home\, work and in the community\, and finally how to approach life changes and unexpected events. \n\n\n\nPlease note: Educational event followed by a complimentary wine tasting and light bites. Must be 21+ to attend. RSVP required. Limited availability. Guests may register for only one event date.\n\n \n\nRSVP:  https://www.ameripriseadvisors.com/jamille.thomas/lp/event/3/
X-ALT-DESC;FMTTYPE=text/html:<span style="font-family:arial\,sans-serif"><span style="font-size:12.0pt">During this complimentary session\, we&rsquo\;ll discuss four areas that can impact women&rsquo\;s financial lives and offer some strategies to help. We&rsquo\;ll discuss the income gap women often face and how to plan for a longer lifespan\, manage multiple roles and responsibilities at home\, work and in the community\, and finally how to approach life changes and unexpected events.&nbsp\;</span></span><br />\n<br />\n<strong><span style="font-family:arial\,sans-serif">Please note: </span></strong><span style="font-family:arial\,sans-serif">Educational event followed by a complimentary wine tasting and light bites. Must be 21+ to attend. RSVP required. Limited availability. Guests may register for only one event date.</span><br />\n&nbsp\;<br />\n<span style="font-family:arial\,sans-serif">RSVP:&nbsp\;</span><span style="color:rgb(31\, 34\, 38)\; font-family:roboto\,arial\,sans-serif\; font-size:16px">&nbsp\;<a href="https://www.ameripriseadvisors.com/jamille.thomas/lp/event/3/">https://www.ameripriseadvisors.com/jamille.thomas/lp/event/3/</a></span><br />\n&nbsp\;
LOCATION:Total Wine and More 1191 Gates Parkway Prosper\, TX 75078
UID:e.854.24873
SEQUENCE:3
DTSTAMP:20260423T104958Z
URL:https://members.planochamber.org/events/details/community-event-knowledge-is-power-financial-strategies-for-women-24873
END:VEVENT

END:VCALENDAR
