BEGIN:VCALENDAR
VERSION:2.0
PRODID:-//ChamberMaster//Event Calendar 2.0//EN
METHOD:PUBLISH
X-PUBLISHED-TTL:P3D
REFRESH-INTERVAL:P3D
CALSCALE:GREGORIAN
BEGIN:VEVENT
DTSTART:20260428T210000Z
DTEND:20260429T000000Z
X-MICROSOFT-CDO-ALLDAYEVENT:FALSE
SUMMARY:Community Event: Grand Opening Ribbon Cutting for Real Opportunities Center - Real Options
DESCRIPTION:We are excited to announce the upcoming Grand Opening of the Real Opportunities Center in Allen\, representing an expansion of our Real Options clinics located in S. Dallas\, Allen\, Melissa and our Medical Mobile Clinic that parks weekly in Plano and travels to the needs in surrounding areas.   Tours of both Real Options Clinic & Real Opportunities Center will be available during the Grand Opening. \n\n\n\nTuesday\, April 28th 4pm - 7pm (come and go)\n\nRibbon Cutting 4:30 PM by Allen Chamber\n\nReal Options \n\n1776 W. McDermott Drive\, Suite 150\n\nAllen\, TX 75013
X-ALT-DESC;FMTTYPE=text/html:We are excited to announce the upcoming Grand Opening of the Real Opportunities Center in Allen\, representing an expansion of our Real Options clinics located in S. Dallas\, Allen\, Melissa and our Medical Mobile Clinic that parks weekly in Plano and travels to the needs in surrounding areas.&nbsp\; &nbsp\;Tours of both Real Options Clinic &amp\; Real Opportunities Center will be available during the Grand Opening.&nbsp\;<br />\n<br />\nTuesday\, April 28th 4pm - 7pm (come and go)<br />\nRibbon Cutting 4:30 PM by Allen Chamber<br />\nReal Options&nbsp\;<br />\n1776 W. McDermott Drive\, Suite 150<br />\nAllen\, TX 75013
LOCATION:Real Options 1776 W. McDermott Drive\, Suite 150 Allen\, TX 75013
UID:e.854.24924
SEQUENCE:3
DTSTAMP:20260422T202156Z
URL:https://members.planochamber.org/events/details/community-event-grand-opening-ribbon-cutting-for-real-opportunities-center-real-options-24924
END:VEVENT

END:VCALENDAR
