BEGIN:VCALENDAR
VERSION:2.0
PRODID:-//ChamberMaster//Event Calendar 2.0//EN
METHOD:PUBLISH
X-PUBLISHED-TTL:P3D
REFRESH-INTERVAL:P3D
CALSCALE:GREGORIAN
BEGIN:VEVENT
DTSTART:20251125T173000Z
DTEND:20251125T190000Z
X-MICROSOFT-CDO-ALLDAYEVENT:FALSE
SUMMARY:Community Event: First United Bank - Health & Wellness Pillar Lunch & Learn - Medicare 101
DESCRIPTION:First United Bank Plano Parkwood\n\n\n\nJoin our Health & Wellness Lunch & Learn on Medicare 101 - Learn about the 2026 Changes on Medicare and what you need to know before making decisions. Our speaker Nicole Morgan\, licensed insurance agent specializing in Medicare plans will be leading our discussion. \n\n\nTopic of Discussion\n\n\n\n         Basics of Medicare\n\n         Options of Medicare\n\n         What you need to know before having to make decisions\n\n         2026 Changes\n\n \n\nTuesday\, November 25th\, 2025\n\n11:30 AM   1:00 PM\n\nLunch is included. Registration required.\n\n\n\nFirst United Bank Plano Parkwood\n\nCommunity Conference Room   2nd Floor\n\n3930 Dallas Parkway\, Plano TX\, 75093
X-ALT-DESC;FMTTYPE=text/html:<div>First United Bank Plano Parkwood<br />\n<br />\nJoin our Health &amp\; Wellness Lunch &amp\; Learn on Medicare 101 - Learn about the 2026 Changes on Medicare and what you need to know before making decisions. Our speaker Nicole Morgan\, licensed insurance agent specializing in Medicare plans will be leading our discussion.&nbsp\;</div>\n<br />\n<span style="color:rgb(0\, 0\, 0)\; font-family:segoe ui\,segoe ui web (west european)\,segoe ui\,-apple-system\,blinkmacsystemfont\,roboto\,helvetica neue\,sans-serif\; font-size:14px">Topic of Discussion</span><br />\n<br />\n<span style="color:rgb(0\, 0\, 0)\; font-family:segoe ui\,segoe ui web (west european)\,segoe ui\,-apple-system\,blinkmacsystemfont\,roboto\,helvetica neue\,sans-serif\; font-size:14px">&middot\;&nbsp\;&nbsp\;&nbsp\;&nbsp\;&nbsp\;&nbsp\;&nbsp\;&nbsp\;</span><em>Basics of Medicare</em><br />\n<span style="color:rgb(0\, 0\, 0)\; font-family:segoe ui\,segoe ui web (west european)\,segoe ui\,-apple-system\,blinkmacsystemfont\,roboto\,helvetica neue\,sans-serif\; font-size:14px">&middot\;&nbsp\;&nbsp\;&nbsp\;&nbsp\;&nbsp\;&nbsp\;&nbsp\;&nbsp\;<em>Options of Medicare</em></span><br />\n<span style="color:rgb(0\, 0\, 0)\; font-family:segoe ui\,segoe ui web (west european)\,segoe ui\,-apple-system\,blinkmacsystemfont\,roboto\,helvetica neue\,sans-serif\; font-size:14px">&middot\;&nbsp\;&nbsp\;&nbsp\;&nbsp\;&nbsp\;&nbsp\;&nbsp\;&nbsp\;<em>What you need to know before having to make decisions</em></span><br />\n<span style="color:rgb(0\, 0\, 0)\; font-family:segoe ui\,segoe ui web (west european)\,segoe ui\,-apple-system\,blinkmacsystemfont\,roboto\,helvetica neue\,sans-serif\; font-size:14px">&middot\;&nbsp\;&nbsp\;&nbsp\;&nbsp\;&nbsp\;&nbsp\;&nbsp\;&nbsp\;<em>2026 Changes</em></span><br />\n<span style="color:rgb(0\, 0\, 0)\; font-family:segoe ui\,segoe ui web (west european)\,segoe ui\,-apple-system\,blinkmacsystemfont\,roboto\,helvetica neue\,sans-serif\; font-size:14px">&nbsp\;</span><br />\n<span style="color:rgb(0\, 0\, 0)\; font-family:segoe ui\,segoe ui web (west european)\,segoe ui\,-apple-system\,blinkmacsystemfont\,roboto\,helvetica neue\,sans-serif\; font-size:14px">Tuesday\, November 25th\, 2025</span><br />\n<span style="color:rgb(0\, 0\, 0)\; font-family:segoe ui\,segoe ui web (west european)\,segoe ui\,-apple-system\,blinkmacsystemfont\,roboto\,helvetica neue\,sans-serif\; font-size:14px">11:30 AM &ndash\; 1:00 PM</span><br />\n<span style="color:rgb(0\, 0\, 0)\; font-family:segoe ui\,segoe ui web (west european)\,segoe ui\,-apple-system\,blinkmacsystemfont\,roboto\,helvetica neue\,sans-serif\; font-size:14px">Lunch is included. Registration required.</span><br />\n<br />\n<span style="color:rgb(0\, 0\, 0)\; font-family:segoe ui\,segoe ui web (west european)\,segoe ui\,-apple-system\,blinkmacsystemfont\,roboto\,helvetica neue\,sans-serif\; font-size:14px">First United Bank Plano Parkwood</span><br />\n<span style="color:rgb(0\, 0\, 0)\; font-family:segoe ui\,segoe ui web (west european)\,segoe ui\,-apple-system\,blinkmacsystemfont\,roboto\,helvetica neue\,sans-serif\; font-size:14px">Community Conference Room &ndash\; 2nd Floor</span><br />\n<span style="color:rgb(0\, 0\, 0)\; font-family:segoe ui\,segoe ui web (west european)\,segoe ui\,-apple-system\,blinkmacsystemfont\,roboto\,helvetica neue\,sans-serif\; font-size:14px">3930 Dallas Parkway\, Plano TX\, 75093</span><br />\n&nbsp\;
LOCATION:First United Bank Plano Parkwood Community Conference Room 2nd Floor 3930 Dallas Parkway\, Plano TX\, 75093
UID:e.854.24387
SEQUENCE:3
DTSTAMP:20260422T120801Z
URL:https://members.planochamber.org/events/details/community-event-first-united-bank-health-wellness-pillar-lunch-learn-medicare-101-24387
END:VEVENT

END:VCALENDAR
