BEGIN:VCALENDAR
VERSION:2.0
PRODID:-//ChamberMaster//Event Calendar 2.0//EN
METHOD:PUBLISH
X-PUBLISHED-TTL:P3D
REFRESH-INTERVAL:P3D
CALSCALE:GREGORIAN
BEGIN:VEVENT
DTSTART:20260331T163000Z
DTEND:20260331T180000Z
X-MICROSOFT-CDO-ALLDAYEVENT:FALSE
SUMMARY:Community Event: Financial Growth Pillar Lunch & Learn: The Right Way to use AI
DESCRIPTION:Financial Growth Pillar Lunch & Learn: The Right Way to use AI\n\n\n\nJoin us at First United Bank's Pillar Luncheon where you will discover how organizations move through the four stages of AI transformation?from basic tools to agentic workflows and AI-driven leadership?while learning how Retrieval-Augmented Generation (RAG) enables secure\, business-aware intelligence powered by your own data\, and exploring the rise of the AI Executive Board as AI evolves from simple automation to providing real-time insights\, risk analysis\, and strategic decision support.\n\n\n\nRSVP: https://forms.office.com/r/nQdkbVtqur
X-ALT-DESC;FMTTYPE=text/html:Financial Growth Pillar Lunch &amp\; Learn: The Right Way to use AI<br>\n<br>\nJoin us at First United Bank's Pillar Luncheon where you will discover how organizations move through the four stages of AI transformation?from basic tools to agentic workflows and AI-driven leadership?while learning how Retrieval-Augmented Generation (RAG) enables secure\, business-aware intelligence powered by your own data\, and exploring the rise of the AI Executive Board as AI evolves from simple automation to providing real-time insights\, risk analysis\, and strategic decision support.<br>\n<br>\nRSVP:&nbsp\;https://forms.office.com/r/nQdkbVtqur<br>\n<br>\n<br>\n<br>\n<br>\n<br>\n&nbsp\;
LOCATION:First United Bank Plano Parkwood 2FL Community Conference Room 3930 Dallas Parkway Plano\, TX 75093
UID:e.854.24838
SEQUENCE:3
DTSTAMP:20260420T035957Z
URL:https://members.planochamber.org/events/details/community-event-financial-growth-pillar-lunch-learn-the-right-way-to-use-ai-24838
END:VEVENT

END:VCALENDAR
