BEGIN:VCALENDAR
VERSION:2.0
PRODID:-//ChamberMaster//Event Calendar 2.0//EN
METHOD:PUBLISH
X-PUBLISHED-TTL:P3D
REFRESH-INTERVAL:P3D
CALSCALE:GREGORIAN
BEGIN:VEVENT
DTSTART:20251115T233000Z
DTEND:20251116T050000Z
X-MICROSOFT-CDO-ALLDAYEVENT:FALSE
SUMMARY:Community Event: 40th Anniversary "Back to the 80s" Gala!
DESCRIPTION:Honoring 40 years serving the community! \n\n\n\n\nJoin Hope's Door New Beginning Center for a night of honoring the past as we mark four decades of service to survivors of domestic abuse. Step back in time and experience the vibrant energy of the 1980s with themed d cor\, entertainment\, and a powerful program that honors our past\, celebrates our present\, and builds toward a future free from violence.\n\nThis milestone event will raise critical funds to support our mission and spotlight the courageous stories of the survivors we serve. \n\n\n\n\nBreak out your leg warmers\, sequins\, and neon this night will be a fun\, unforgettable blast from the past!\n\n\n	\n	Live Entertainment & Dancing\n	\n	\n	Silent Auction & Live Auction \n	\n	\n	Dinner & Signature Cocktails\n	\n	\n	Inspiring Program + Special Guest Speakers\n	\n\n\n\n\nBe part of this unforgettable evening as we honor our mission and the incredible community that makes it possible. Your support helps us continue our work of providing safety\, shelter\, and support for survivors in North Texas.
X-ALT-DESC;FMTTYPE=text/html:<div>\n<div>\n<h2>Honoring 40 years serving the community!&nbsp\;</h2>\n</div>\n</div>\n\n<div>\n<h2><span style="font-family:nunito\; font-size:16px">Join Hope&#39\;s Door New Beginning Center for a night of honoring the past as we mark four decades of service to survivors of domestic abuse. Step back in time and experience the vibrant energy of the 1980s with themed d&eacute\;cor\, entertainment\, and a powerful program that honors our past\, celebrates our present\, and builds toward a future free from violence.</span></h2>\n\n<p>This milestone event will raise critical funds to support our mission and spotlight the courageous stories of the survivors we serve.&nbsp\;</p>\n\n<div>\n<div>\n<div>\n<p>Break out your leg warmers\, sequins\, and neon&mdash\;this night will be a fun\, unforgettable blast from the past!</p>\n\n<ul>\n	<li>\n	<p>Live Entertainment &amp\; Dancing</p>\n	</li>\n	<li>\n	<p>Silent Auction &amp\; Live Auction&nbsp\;</p>\n	</li>\n	<li>\n	<p>Dinner &amp\; Signature Cocktails</p>\n	</li>\n	<li>\n	<p>Inspiring Program + Special Guest Speakers</p>\n	</li>\n</ul>\n\n<p><br />\nBe part of this unforgettable evening as we honor our mission and the incredible community that makes it possible. Your support helps us continue our work of providing safety\, shelter\, and support for survivors in North Texas.&nbsp\;<br />\n&nbsp\;</p>\n</div>\n</div>\n</div>\n</div>\n
LOCATION:Renaissance Dallas at Plano Legacy West Hotel 6007 Legacy Drive\, Plano\, TX 75024 Self-parking and Valet available.
UID:e.854.24213
SEQUENCE:3
DTSTAMP:20260422T122244Z
URL:https://members.planochamber.org/events/details/community-event-40th-anniversary-back-to-the-80s-gala-24213
END:VEVENT

END:VCALENDAR
