BEGIN:VCALENDAR
VERSION:2.0
PRODID:-//ChamberMaster//Event Calendar 2.0//EN
METHOD:PUBLISH
X-PUBLISHED-TTL:P3D
REFRESH-INTERVAL:P3D
CALSCALE:GREGORIAN
BEGIN:VEVENT
DTSTART:20141005T013000Z
DTEND:20141005T043000Z
X-MICROSOFT-CDO-ALLDAYEVENT:FALSE
SUMMARY:Chant at TAVERNA ROSSA
DESCRIPTION:With a combination of soul\, funk\, rock\, and blues\, Chant has established themselves as the ambassadors of Eclectic Soul - a soulful new genre that sets no rules and has no boundaries. This trio mixes intelligently crafted songs with exceptional musicianship to create a style that defies categories and defines originality.\n\nWith their roots in the past and a sound for the future\, Chant truly is "the history of things to come." Come check them out ONLY at Taverna Rossa!
X-ALT-DESC;FMTTYPE=text/html:<p style="margin: 0px 0px 25px\; padding: 0px\; text-align: justify\; color: rgb(68\, 68\, 68)\; line-height: 1.6em\; font-family: &quot\;Droid Sans&quot\;\, Arial\, sans-serif\; font-size: 16px\;">With a combination of soul\, funk\, rock\, and blues\,&nbsp\;<a data-mce-="" href="http://www.myspace.com/chantmusic" style="margin: 0px\; padding: 0px\;" target="_blank">Chant</a>&nbsp\;has established themselves as the ambassadors of Eclectic Soul - a soulful new genre that sets no rules and has no boundaries. This trio mixes intelligently crafted songs with exceptional musicianship to create a style that defies categories and defines originality.</p>\n\n<p style="margin: 0px 0px 25px\; padding: 0px\; text-align: justify\; color: rgb(68\, 68\, 68)\; line-height: 1.6em\; font-family: &quot\;Droid Sans&quot\;\, Arial\, sans-serif\; font-size: 16px\;">With their roots in the past and a sound for the future\, Chant truly is &quot\;the history of things to come.&quot\; Come check them out ONLY at&nbsp\;<a data-mce-="" href="http://www.tavernarossa.com/" style="margin: 0px\; padding: 0px\;" target="_blank" title="Taverna Rossa Now Open in West Plano">Taverna Rossa</a>!</p>\n
LOCATION:Located on the North-West corner of Preston Road and Lorimar in Plano at the Lakeside Market next to Mi Cocina. 4005 Preston Rd\, Ste 512 Plano\, TX 75093
UID:e.854.5284
SEQUENCE:3
DTSTAMP:20260420T103211Z
URL:https://members.planochamber.org/events/details/chant-at-taverna-rossa-10-04-2014-5284
END:VEVENT

END:VCALENDAR
