BEGIN:VCALENDAR
VERSION:2.0
PRODID:-//ChamberMaster//Event Calendar 2.0//EN
METHOD:PUBLISH
X-PUBLISHED-TTL:P3D
REFRESH-INTERVAL:P3D
CALSCALE:GREGORIAN
BEGIN:VEVENT
DTSTART:20141030T150000Z
DTEND:20141030T160000Z
X-MICROSOFT-CDO-ALLDAYEVENT:FALSE
SUMMARY:Brookdale Creekside - Special Event!
DESCRIPTION:Introducing Brookdale Creekside\, formerly\, Emeritus at Creekside.  Guests are invited to join us for tours\, refreshments and a Ribbon Cutting Ceremony at 10:30 am.\n\n\n\nFor reservations or more information\, call 972-312-9993
X-ALT-DESC;FMTTYPE=text/html:Introducing<strong><em> Brookdale Creekside</em></strong>\, formerly\, Emeritus at Creekside.&nbsp\; Guests are invited to join us for tours\, refreshments and a Ribbon Cutting Ceremony at 10:30 am.<br />\n<br />\nFor reservations or more information\, call 972-312-9993
LOCATION:2000 W. Spring Creek Pkwy Plano\, TX 75023
UID:e.854.5321
SEQUENCE:3
DTSTAMP:20260420T103241Z
URL:https://members.planochamber.org/events/details/brookdale-creekside-special-event-10-30-2014-5321
END:VEVENT

END:VCALENDAR
