BEGIN:VCALENDAR
VERSION:2.0
PRODID:-//ChamberMaster//Event Calendar 2.0//EN
METHOD:PUBLISH
X-PUBLISHED-TTL:P3D
REFRESH-INTERVAL:P3D
CALSCALE:GREGORIAN
BEGIN:VEVENT
DTSTART:20141109T010000Z
DTEND:20141109T055500Z
X-MICROSOFT-CDO-ALLDAYEVENT:FALSE
SUMMARY:1st Annual Collin County Cooks Gala
DESCRIPTION:Join us for our inaugural Collin County COOKS! on November 8\, 2014 as we feature some of the area's top chefs and fabulous wines\, all while raising important funds for the American Cancer Society. Event attendees will enjoy bites from Collin County's finest chefs\, wine pairings from various wineries\, cooking demos\, music\, auctions\, raffles and more! Help us create a world with less cancer and more birthdays\, and to kick off the first year of what will unquestionably become Collin County's premier culinary event. More details to be announced soon!\n\nThe money raised by Collin County COOKS! will help fund research\, education\, advocacy and service programs that benefit cancer patients and their families throughout North Texas.  The goal of this year's event is to raise $100\,000 for the American Cancer Society.
X-ALT-DESC;FMTTYPE=text/html:<span style="font-family: arial\,sans-serif\;"><span style="font-size: medium\;">Join us for our inaugural Collin County COOKS! </span><span style="font-size: 12px\;">on November 8\, 2014 as we feature some of the area&rsquo\;s top chefs and fabulous wines\, all while raising important funds for the American Cancer Society. Event attendees will enjoy bites from Collin County&rsquo\;s finest chefs\, wine pairings from various wineries\, cooking demos\, music\, auctions\, raffles and more! Help us create a world with less cancer and more birthdays\, and to kick off the first year of what will unquestionably become Collin County&rsquo\;s premier culinary event. More details to be announced soon!<br />\n<span style="font-family: arial\,sans-serif\;">The money raised by Collin County COOKS! will help fund research\, education\, advocacy and service programs that benefit cancer patients and their families throughout North Texas.&nbsp\; The goal of this year&rsquo\;s event is to raise $100\,000 for the American Cancer Society.</span></span></span><br />\n&nbsp\;
LOCATION:Courtyard Marriott Allen at the John Q. Hammons Center 210 East Stacy Road Allen\, Texas 75002
UID:e.854.3912
SEQUENCE:3
DTSTAMP:20260420T085228Z
URL:https://members.planochamber.org/events/details/1st-annual-collin-county-cooks-gala-11-08-2014-3912
END:VEVENT

END:VCALENDAR
